Workbook
Name pic_SDTV: Database!$O$8
Name pic_SSDT: Database!$O$7
Name SDTV: Database!$O$8
Name ShowImage: INDIRECT("pic_" &Database!$O$7)
Name SSDT: Database!$O$7

Sheet Database
A1: Broj | B1: Ime i prezime | C1: Pol | D1: dan | E1: mes | F1: god | G1: Klub | H1: Tel. Tež
B4: Marija Martinović | C4: Ž | D4: 14 | E4: 05 | F4: 12 | G4: 8. Mart - Irig
B5: Neda Savić | C5: Ž | D5: 16 | E5: 08 | F5: 13 | G5: 8. Mart - Irig
B6: Dunja Milić | C6: Ž | D6: 17 | E6: 09 | F6: 12 | G6: 8. Mart - Irig
B7: Ivana Lončar | C7: Ž | D7: 26 | E7: 03 | F7: 05 | G7: 8. Mart - Irig
B8: Isidora Kranjc | C8: Ž | D8: 12 | E8: 06 | F8: 13 | G8: 8. Mart - Irig
B9: Ena Barać | C9: Ž | D9: 12 | E9: 02 | F9: 09 | G9: 8. Mart - Irig
B10: Jovana Trivić | C10: Ž | D10: 12 | E10: 02 | F10: 09 | G10: 8. Mart - Irig
B11: Lenka Bursać | C11: Ž | D11: 06 | E11: 05 | F11: 09 | G11: 8. Mart - Irig
B12: Vanja Ristić | C12: Ž | D12: 10 | E12: 01 | F12: 06 | G12: 8. Mart - Irig
B13: Una Kranjc | C13: Ž | D13: 30 | E13: 01 | F13: 09 | G13: 8. Mart - Irig
B14: Đorđe Ilić | C14: M | G14: 8. Mart - Irig
B15: Miloš Vojnović | C15: M | D15: 22 | E15: 02 | F15: 12 | G15: 8. Mart - Irig
B16: Andjelija Utvić | C16: Ž | D16: 08 | E16: 11 | F16: 17 | G16: 8. Mart - Irig
B17: Milana Jerković | C17: Ž | D17: 18 | E17: 02 | F17: 16 | G17: 8. Mart - Irig
B18: Lena Kranjc | C18: Ž | D18: 12 | E18: 01 | F18: 15 | G18: 8. Mart - Irig
B19: Sara Radonić | C19: Ž | D19: 20 | E19: 02 | F19: 15 | G19: 8. Mart - Irig
B20: Magdalena Utvić | C20: Ž | D20: 17 | E20: 11 | F20: 13 | G20: 8. Mart - Irig
B21: Sofija Lovrić | C21: Ž | D21: 06 | E21: 06 | F21: 13 | G21: 8. Mart - Irig
B22: Nikolija Filipović | C22: Ž | D22: 11 | E22: 06 | F22: 13 | G22: 8. Mart - Irig
B23: Milica Milić | C23: Ž | F23: 15 | G23: 8. Mart - Irig
B24: Nevena Stanišić | C24: Ž | F24: 14 | G24: 8. Mart - Irig
B25: Nađa Stanišić | C25: Ž | F25: 12 | G25: 8. Mart - Irig
B26: Vanja Vladisavljev | C26: Ž | F26: 12 | G26: 8. Mart - Irig
B27: Andrea Žegarac | C27: Ž | D27: 18 | E27: 11 | F27: 15 | G27: 8. Mart - Irig
B28: Tamara Todorić | C28: Ž | D28: 21 | E28: 07 | F28: 15 | G28: 8. Mart - Irig
B29: Mia Ivanišević | C29: Ž | D29: 03 | E29: 12 | F29: 12 | G29: 8. Mart - Irig
B32: Monika Zemko | C32: Ž | D32: 12 | E32: 08 | F32: 09 | G32: Spartak - Subotica
B33: Mila Đorović | C33: Ž | D33: 21 | E33: 10 | F33: 11 | G33: Spartak - Subotica
B34: Ines Hadžibegović | C34: Ž | D34: 28 | E34: 08 | F34: 02 | G34: Spartak - Subotica
B35: Tamas Kajdoči | C35: M | D35: 21 | E35: 04 | F35: 97 | G35: Spartak - Subotica
B36: Aleksandar Saulić | C36: M | D36: 08 | E36: 01 | F36: 02 | G36: Spartak - Subotica
B37: Balaž Benčik Maša | C37: M | D37: 26 | E37: 03 | F37: 05 | G37: Spartak - Subotica
B38: Viktor Haško | C38: M | D38: 05 | E38: 07 | F38: 01 | G38: Spartak - Subotica
B39: Ivan Erdeg | C39: M | D39: 07 | E39: 03 | F39: 08 | G39: Spartak - Subotica
B40: Marin Vukov | C40: M | D40: 23 | E40: 09 | F40: 04 | G40: Spartak - Subotica
... B68: Sara Perič | C68: Ž | D68: 18 | E68: 11 | F68: 07 | G68: Spartak - Subotica
B69: Elizabeta Kiš | C69: Ž | G69: Spartak - Subotica
B70: Mihalj Pece | C70: M | D70: 18 | E70: 06 | F70: 87 | G70: Spartak - Subotica
B71: Krištof Šebok | C71: M | G71: Spartak - Subotica
B72: Stefan Novikov | C72: M | G72: Spartak - Subotica
B73: Daniel Zdenjak | C73: M | D73: 05 | E73: 10 | F73: 00 | G73: Spartak - Subotica
B74: Zamur Erdelj | C74: M | D74: 08 | E74: 03 | F74: 11 | G74: Spartak - Subotica
B75: Ljiljana Čikoš | C75: Ž | D75: 19 | E75: 11 | F75: 68 | G75: Spartak - Subotica
B76: Alen Vukov | C76: M | G76: Spartak - Subotica
B77: Margareta Bašaragin | C77: Ž | D77: 15 | E77: 09 | F77: 78 | G77: Spartak - Subotica
B78: Adrian Rihter | C78: M | D78: 31 | E78: 08 | F78: 05 | G78: Spartak - Subotica
B79: Tamaš Seči | C79: M | D79: 08 | E79: 07 | F79: 08 | G79: Spartak - Subotica
B80: Aron Herendi | C80: M | D80: 22 | E80: 05 | F80: 12 | G80: Spartak - Subotica
B81: Peter Molnar | C81: M | D81: 30 | E81: 11 | F81: 12 | G81: Spartak - Subotica
B82: Aron Mačai | C82: M | D82: 06 | E82: 10 | F82: 11 | G82: Spartak - Subotica
B83: Mate Kovač | C83: M | D83: 30 | E83: 10 | F83: 12 | G83: Spartak - Subotica
B84: Ognjen Radulović | C84: M | D84: 25 | E84: 07 | F84: 08 | G84: Spartak - Subotica
B85: Oliver Kovač | C85: M | D85: 31 | E85: 03 | F85: 09 | G85: Spartak - Subotica
B86: Vivien Milanković | C86: Ž | D86: 01 | E86: 08 | F86: 11 | G86: Spartak - Subotica
B87: Mark Burnać | C87: M | D87: 14 | E87: 08 | F87: 08 | G87: Spartak - Subotica
B88: Demjan Radchenko | C88: M | D88: 20 | E88: 05 | F88: 09 | G88: Spartak - Subotica
... B98: Dušanka Nikolić | C98: Ž | D98: 15 | E98: 55 | F98: 60 | G98: Herkules - Bač
B99: Kristina Farkaš | C99: Ž | D99: 27 | E99: 1 | F99: 11 | G99: Herkules - Bač
B100: Pejaković Maja | C100: Ž | D100: 11 | E100: 07 | F100: 09 | G100: Herkules - Bač
B101: Radmila Zagorac | C101: Ž | D101: 24 | E101: 01 | F101: 01 | G101: Herkules - Bač
B102: Sonja Bjelić | C102: Ž | D102: 17 | E102: 07 | F102: 99 | G102: Herkules - Bač
B104: Stevan Vladisavljev | C104: M | D104: 04 | E104: 07 | F104: 99 | G104: Herkules - Bač
B105: Filip Bertran | C105: M | D105: 12 | E105: 09 | F105: 03 | G105: Herkules - Bač
B106: Jovan Krnajac | C106: M | D106: 29 | E106: 04 | F106: 02 | G106: Herkules - Bač
B107: Nemanja Surop | C107: M | D107: 29 | E107: 01 | F107: 09 | G107: Herkules - Bač
B108: Miloš Josić | C108: M | D108: 26 | E108: 03 | F108: 09 | G108: Herkules - Bač
B109: Kristijan Bertran | C109: M | D109: 27 | E109: 11 | F109: 98 | G109: Herkules - Bač
B110: Strahinja Gaković | C110: M | D110: 27 | E110: 12 | F110: 07 | G110: Herkules - Bač
B111: Miloš Nikolić | C111: M | D111: 21 | E111: 09 | F111: 09 | G111: Herkules - Bač
B112: Mihajlo Farkaš | C112: M | D112: 02 | E112: 10 | F112: 08 | G112: Herkules - Bač
... B117: Nikola Surop | C117: M | D117: 25 | E117: 04 | F117: 11 | G117: Herkules - Bač
B118: Svetozar Marković | C118: M | G118: Herkules - Bač
B119: Bojan Nikolić | C119: M | D119: 07 | E119: 09 | F119: 16 | G119: Herkules - Bač
B121: Novak Kovačević | C121: M | D121: 30 | E121: 03 | F121: 11 | G121: Radnički - Sombor
B122: Natalija Rudić | C122: Ž | D122: 14 | E122: 06 | F122: 11 | G122: Radnički - Sombor
B123: Tina Pelajić | C123: Ž | D123: 05 | E123: 03 | F123: 05 | G123: Radnički - Sombor
B124: Andjela Erdelj | C124: Ž | F124: 05 | G124: Spartak - Subotica
B125: Martina Đurković | C125: Ž | D125: 11 | E125: 07 | F125: 05 | G125: Radnički - Sombor
B126: Maša Rakonca | C126: Ž | D126: 03 | E126: 05 | F126: 10 | G126: Radnički - Sombor
B127: Andrej Rang | C127: M | D127: 24 | E127: 06 | F127: 02 | G127: Radnički - Sombor
B128: David Milošević | C128: M | D128: 04 | E128: 04 | F128: 09 | G128: Radnički - Sombor
B129: Matej Vilim | C129: M | D129: 26 | E129: 03 | F129: 06 | G129: Radnički - Sombor
B130: Aljoša Ilić | C130: M | D130: 30 | E130: 03 | F130: 05 | G130: Radnički - Sombor
B131: Petar Pelajić | C131: M | D131: 02 | E131: 07 | F131: 06 | G131: Radnički - Sombor
B132: Nikola Martinović | C132: M | D132: 21 | E132: 02 | F132: 10 | G132: Radnički - Sombor
B133: Ana Pokrajac | C133: Ž | D133: 08 | E133: 03 | F133: 10 | G133: Radnički - Sombor
B134: Teodora Vrbljanac | C134: Ž | D134: 09 | E134: 08 | F134: 09 | G134: Radnički - Sombor
B135: Tajana Merl | C135: Ž | D135: 07 | E135: 04 | F135: 09 | G135: Radnički - Sombor
B136: Dijana Oršovai | C136: Ž | G136: Radnički - Sombor
B137: Tatjana Poslovski | C137: Ž | G137: Radnički - Sombor
B138: Mia Džinić | C138: Ž | G138: Radnički - Sombor
B139: Danijela Šajn | C139: Ž | G139: Radnički - Sombor
B140: Rastko Vojnović | C140: M | D140: 09 | E140: 07 | F140: 09 | G140: Radnički - Sombor
B141: Snežana Dumanović | C141: Ž | D141: 02 | E141: 02 | F141: 10 | G141: Radnički - Sombor
B142: Strahinja Turudija | C142: M | D142: 06 | E142: 11 | F142: 08 | G142: Radnički - Sombor
B143: Jelena Mitrović | C143: Ž | D143: 05 | E143: 09 | F143: 02 | G143: Železničar - Inđija
B144: Bojana Zoraja | C144: Ž | D144: 29 | E144: 04 | F144: 09 | G144: Železničar - Inđija
B145: Sara Klarić | C145: Ž | D145: 10 | E145: 11 | F145: 12 | G145: Železničar - Inđija
B146: Jelena Bodrožić | C146: Ž | D146: 07 | E146: 02 | F146: 82 | G146: Železničar - Inđija
...

Sheet Ž
C1: ZAPISNIK TAKMIČENJA
C2: POJEDINAČNO PRVENSTVO VOJVODINE
C3: ZA TAKMIČARKE DO 15 GODINA | Q3: 21.02.2026
B4: Ime i prezime | C4: Pol | D4: dan | E4: mes | F4: god | G4: Klub | H4: Tel. Tež | I4: T r z a j | L4: R | M4: I z b a č a j | P4: R | Q4: OB | R4: Vrednost rezultata | S4: Plas
I5: 1 | J5: 2 | K5: 3 | M5: 1 | N5: 2 | O5: 3
A6: 40
A7: 44
A8: 1 | B8: Melania Farago | C8: =INDEX(Database!$B:$G,MATCH($B8,Database!B:B,0),MATCH(C4,Database!$B$1:$G$1,0)) -> Ž | D8: =INDEX(Database!$B:$G,MATCH($B8,Database!B:B,0),MATCH(D4,Database!$B$1:$G$1,0)) -> 16 | E8: =INDEX(Database!$B:$G,MATCH($B8,Database!B:B,0),MATCH(E4,Database!$B$1:$G$1,0)) -> 01 | F8: =INDEX(Database!$B:$G,MATCH($B8,Database!B:B,0),MATCH(F4,Database!$B$1:$G$1,0)) -> 12 | G8: =INDEX(Database!$B:$G,MATCH($B8,Database!$B:$B,0),MATCH(G4,Database!$B$1:$G$1,0)) -> Spartak - Subotica | H8: 40.9 | I8: 12 | J8: 14 | K8: 16 | L8: 16 | M8: 17 | N8: 17 | O8: 19 | P8: 19 | Q8: =L8+P8 -> 35 | R8: =IF(H8="","",Q8*10^((0.787004341)*LOG10(H8/153.757)^2)) -> 63.734174 | S8: 1
A9: 48
A10: 1 | B10: Vivien Milanković | C10: =INDEX(Database!$B:$G,MATCH($B10,Database!B:B,0),MATCH($C$4,Database!$B$1:$G$1,0)) -> Ž | D10: =INDEX(Database!$B:$G,MATCH($B10,Database!B:B,0),MATCH($D$4,Database!$B$1:$G$1,0)) -> 01 | E10: =INDEX(Database!$B:$G,MATCH($B10,Database!B:B,0),MATCH($E$4,Database!$B$1:$G$1,0)) -> 08 | F10: =INDEX(Database!$B:$G,MATCH($B10,Database!B:B,0),MATCH($F$4,Database!$B$1:$G$1,0)) -> 11 | G10: =INDEX(Database!$B:$G,MATCH($B10,Database!B:B,0),MATCH($G$4,Database!$B$1:$G$1,0)) -> Spartak - Subotica | H10: 49.8 | I10: 17 | J10: 20 | K10: 22 | L10: 20 | M10: 20 | N10: 23 | O10: 25 | P10: 25 | Q10: =L10+P10 -> 45 | R10: =IF(H10="","",Q10*10^((0.787004341)*LOG10(H10/153.757)^2)) -> 69.481335 | S10: 2
A11: 2 | B11: Natalija Rudić | C11: =INDEX(Database!$B:$G,MATCH($B11,Database!B:B,0),MATCH($C$4,Database!$B$1:$G$1,0)) -> Ž | D11: =INDEX(Database!$B:$G,MATCH($B11,Database!B:B,0),MATCH($D$4,Database!$B$1:$G$1,0)) -> 14 | E11: =INDEX(Database!$B:$G,MATCH($B11,Database!B:B,0),MATCH($E$4,Database!$B$1:$G$1,0)) -> 06 | F11: =INDEX(Database!$B:$G,MATCH($B11,Database!B:B,0),MATCH($F$4,Database!$B$1:$G$1,0)) -> 11 | G11: =INDEX(Database!$B:$G,MATCH($B11,Database!B:B,0),MATCH($G$4,Database!$B$1:$G$1,0)) -> Radnički - Sombor | H11: 47 | I11: 22 | J11: 25 | K11: 27 | L11: 25 | M11: 30 | N11: 33 | O11: 33 | P11: 33 | Q11: =L11+P11 -> 58 | R11: =IF(H11="","",Q11*10^((0.787004341)*LOG10(H11/153.757)^2)) -> 93.745 | S11: 1
A12: 53
A13: 1 | B13: Kristina Farkaš | C13: =INDEX(Database!$B:$G,MATCH($B13,Database!B:B,0),MATCH($C$4,Database!$B$1:$G$1,0)) -> Ž | D13: =INDEX(Database!$B:$G,MATCH($B13,Database!B:B,0),MATCH($D$4,Database!$B$1:$G$1,0)) -> 27 | E13: =INDEX(Database!$B:$G,MATCH($B13,Database!B:B,0),MATCH($E$4,Database!$B$1:$G$1,0)) -> 1 | F13: =INDEX(Database!$B:$G,MATCH($B13,Database!B:B,0),MATCH($F$4,Database!$B$1:$G$1,0)) -> 11 | G13: =INDEX(Database!$B:$G,MATCH($B13,Database!B:B,0),MATCH($G$4,Database!$B$1:$G$1,0)) -> Herkules - Bač | H13: 49.1 | I13: 23 | J13: 25 | K13: 25 | L13: 23 | M13: 25 | N13: 30 | O13: 30 | P13: 25 | Q13: =L13+P13 -> 48 | R13: =IF(H13="","",Q13*10^((0.787004341)*LOG10(H13/153.757)^2)) -> 74.9315 | S13: 1
A14: 58
A15: 1 | B15: Mila Đorović | C15: =INDEX(Database!$B:$G,MATCH($B15,Database!B:B,0),MATCH($C$4,Database!$B$1:$G$1,0)) -> Ž | D15: =INDEX(Database!$B:$G,MATCH($B15,Database!B:B,0),MATCH($D$4,Database!$B$1:$G$1,0)) -> 21 | E15: =INDEX(Database!$B:$G,MATCH($B15,Database!B:B,0),MATCH($E$4,Database!$B$1:$G$1,0)) -> 10 | F15: =INDEX(Database!$B:$G,MATCH($B15,Database!B:B,0),MATCH($F$4,Database!$B$1:$G$1,0)) -> 11 | G15: =INDEX(Database!$B:$G,MATCH($B15,Database!B:B,0),MATCH($G$4,Database!$B$1:$G$1,0)) -> Spartak - Subotica | H15: 55 | I15: X | J15: X | K15: X | L15: 0 | M15: X | N15: X | O15: X | P15: 0 | Q15: =L15+P15 -> 0 | R15: =IF(H15="","",Q15*10^((0.787004341)*LOG10(H15/153.757)^2)) -> 0
A16: 63
A17: 69
A18: 77
A19: +77
B20: Delegat saveza: | C20: Rita Špajzer | I20: Sudije: | K20: 1 | L20: Rita Špajzer
B21: Sekretari takmičenja: | C21: Tivadar Kajdoči | K21: 2 | L21: Siniša Tanasković
C22: Radmila Zagorac | K22: 3 | L22: Stevan Vladisavljev
G23: Bač, 21.02.2026 | H23: mesto, datum
C24: ZAPISNIK TAKMIČENJA
C25: POJEDINAČNO PRVENSTVO VOJVODINE
C26: ZA TAKMIČARKE DO 17 GODINA | Q26: 21.02.2026
B27: Ime i prezime | C27: Pol | D27: dan | E27: mes | F27: god | G27: Klub | H27: Tel. Tež | I27: T r z a j | L27: R | M27: I z b a č a j | P27: R | Q27: OB | R27: Vrednost rezultata | S27: Plas
I28: 1 | J28: 2 | K28: 3 | M28: 1 | N28: 2 | O28: 3
A29: 44
A30: 48
A31: 53
A32: 1 | B32: Maša Rakonca | C32: =INDEX(Database!$B:$G,MATCH($B32,Database!B:B,0),MATCH($C$4,Database!$B$1:$G$1,0)) -> Ž | D32: =INDEX(Database!$B:$G,MATCH($B32,Database!B:B,0),MATCH($D$4,Database!$B$1:$G$1,0)) -> 03 | E32: =INDEX(Database!$B:$G,MATCH($B32,Database!B:B,0),MATCH($E$4,Database!$B$1:$G$1,0)) -> 05 | F32: =INDEX(Database!$B:$G,MATCH($B32,Database!B:B,0),MATCH($F$4,Database!$B$1:$G$1,0)) -> 10 | G32: =INDEX(Database!$B:$G,MATCH($B32,Database!B:B,0),MATCH($G$4,Database!$B$1:$G$1,0)) -> Radnički - Sombor | H32: 53 | I32: 32 | J32: 35 | K32: X | L32: 35 | M32: 42 | N32: 42 | O32: 45 | P32: 45 | Q32: =L32+P32 -> 80 | R32: =IF(H32="","",Q32*10^((0.787004341)*LOG10(H32/153.757)^2)) -> 117.89031 | S32: 1
A33: 58
A34: 1 | B34: Marija Vajagić | C34: =INDEX(Database!$B:$G,MATCH($B34,Database!B:B,0),MATCH($C$4,Database!$B$1:$G$1,0)) -> Ž | D34: =INDEX(Database!$B:$G,MATCH($B34,Database!B:B,0),MATCH($D$4,Database!$B$1:$G$1,0)) -> 10 | E34: =INDEX(Database!$B:$G,MATCH($B34,Database!B:B,0),MATCH($E$4,Database!$B$1:$G$1,0)) -> 05 | F34: =INDEX(Database!$B:$G,MATCH($B34,Database!B:B,0),MATCH($F$4,Database!$B$1:$G$1,0)) -> 09 | G34: =INDEX(Database!$B:$G,MATCH($B34,Database!B:B,0),MATCH($G$4,Database!$B$1:$G$1,0)) -> Železničar - Inđija | H34: 55.7 | I34: 48 | J34: 50 | K34: 50 | L34: 50 | M34: 55 | N34: 58 | O34: X | P34: 55 | Q34: =L34+P34 -> 105 | R34: =IF(H34="","",Q34*10^((0.787004341)*LOG10(H34/153.757)^2)) -> 149.35941 | S34: 1
A35: 2 | B35: Sara Klarić | C35: =INDEX(Database!$B:$G,MATCH($B35,Database!B:B,0),MATCH($C$4,Database!$B$1:$G$1,0)) -> Ž | D35: =INDEX(Database!$B:$G,MATCH($B35,Database!B:B,0),MATCH($D$4,Database!$B$1:$G$1,0)) -> 10 | E35: =INDEX(Database!$B:$G,MATCH($B35,Database!B:B,0),MATCH($E$4,Database!$B$1:$G$1,0)) -> 11 | F35: =INDEX(Database!$B:$G,MATCH($B35,Database!B:B,0),MATCH($F$4,Database!$B$1:$G$1,0)) -> 12 | G35: =INDEX(Database!$B:$G,MATCH($B35,Database!B:B,0),MATCH($G$4,Database!$B$1:$G$1,0)) -> Železničar - Inđija | H35: 53.5 | I35: 28 | J35: 31 | K35: 31 | L35: 28 | M35: 38 | N35: 41 | O35: X | P35: 38 | Q35: =L35+P35 -> 66 | R35: =IF(H35="","",Q35*10^((0.787004341)*LOG10(H35/153.757)^2)) -> 96.599778 | S35: 2
A36: 63
A37: 1 | B37: Bojana Zoraja | C37: =INDEX(Database!$B:$G,MATCH($B37,Database!B:B,0),MATCH($C$4,Database!$B$1:$G$1,0)) -> Ž | D37: =INDEX(Database!$B:$G,MATCH($B37,Database!B:B,0),MATCH($D$4,Database!$B$1:$G$1,0)) -> 29 | E37: =INDEX(Database!$B:$G,MATCH($B37,Database!B:B,0),MATCH($E$4,Database!$B$1:$G$1,0)) -> 04 | F37: =INDEX(Database!$B:$G,MATCH($B37,Database!B:B,0),MATCH($F$4,Database!$B$1:$G$1,0)) -> 09 | G37: =INDEX(Database!$B:$G,MATCH($B37,Database!B:B,0),MATCH($G$4,Database!$B$1:$G$1,0)) -> Železničar - Inđija | H37: 59 | I37: 48 | J37: 51 | K37: 53 | L37: 53 | M37: 58 | N37: 61 | O37: 61 | P37: 58 | Q37: =L37+P37 -> 111 | R37: =IF(H37="","",Q37*10^((0.787004341)*LOG10(H37/153.757)^2)) -> 151.88245 | S37: 1
A38: 69
A39: 77
A40: +77
B41: Delegat saveza: | C41: Rita Špajzer | I41: Sudije: | K41: 1 | L41: Rita Špajzer
B42: Sekretari takmičenja: | C42: Tivadar Kajdoči | K42: 2 | L42: Siniša Tanasković
C43: Radmila Zagorac | K43: 3 | L43: Stevan Vladisavljev
G44: Bač, 21.02.2026 | H44: mesto, datum
C45: ZAPISNIK TAKMIČENJA
C46: EKIPNO
C47: ZA TAKMIČARKE DO 15 GODINA | Q47: 21.02.2026.
B48: Ime i prezime | C48: Pol | D48: dan | E48: mes | F48: god | G48: Klub | H48: Tel. Tež | I48: T r z a j | L48: R | M48: I z b a č a j | P48: R | Q48: OB | R48: Vrednost rezultata | S48: Plas
I49: 1 | J49: 2 | K49: 3 | M49: 1 | N49: 2 | O49: 3
A50: 1 | B50: Vivien Milanković | C50: =INDEX(Database!$B:$G,MATCH($B50,Database!B:B,0),MATCH($C$4,Database!$B$1:$G$1,0)) -> Ž | D50: =INDEX(Database!$B:$G,MATCH($B50,Database!B:B,0),MATCH($D$4,Database!$B$1:$G$1,0)) -> 01 | E50: =INDEX(Database!$B:$G,MATCH($B50,Database!B:B,0),MATCH($E$4,Database!$B$1:$G$1,0)) -> 08 | F50: =INDEX(Database!$B:$G,MATCH($B50,Database!B:B,0),MATCH($F$4,Database!$B$1:$G$1,0)) -> 11 | G50: =INDEX(Database!$B:$G,MATCH($B50,Database!B:B,0),MATCH($G$4,Database!$B$1:$G$1,0)) -> Spartak - Subotica | H50: 49.8 | I50: 17 | J50: 20 | K50: 22 | L50: 20 | M50: 20 | N50: 23 | O50: 25 | P50: 25 | Q50: =L50+P50 -> 45 | R50: =IF(H50="","",Q50*10^((0.787004341)*LOG10(H50/153.757)^2)) -> 69.481335 | S50: 1
A51: 1 | B51: Melania Farago | C51: =INDEX(Database!$B:$G,MATCH($B51,Database!B:B,0),MATCH(C47,Database!$B$1:$G$1,0)) -> #N/A | D51: =INDEX(Database!$B:$G,MATCH($B51,Database!B:B,0),MATCH(D47,Database!$B$1:$G$1,0)) -> #N/A | E51: =INDEX(Database!$B:$G,MATCH($B51,Database!B:B,0),MATCH(E47,Database!$B$1:$G$1,0)) -> #N/A | F51: =INDEX(Database!$B:$G,MATCH($B51,Database!B:B,0),MATCH(F47,Database!$B$1:$G$1,0)) -> #N/A | G51: =INDEX(Database!$B:$G,MATCH($B51,Database!$B:$B,0),MATCH(G47,Database!$B$1:$G$1,0)) -> #N/A | H51: 40.9 | I51: 12 | J51: 14 | K51: 16 | L51: 16 | M51: 17 | N51: 17 | O51: 19 | P51: 19 | Q51: =L51+P51 -> 35 | R51: =IF(H51="","",Q51*10^((0.787004341)*LOG10(H51/153.757)^2)) -> 63.734174
A52: 1 | B52: Mila Đorović | C52: =INDEX(Database!$B:$G,MATCH($B52,Database!B:B,0),MATCH($C$4,Database!$B$1:$G$1,0)) -> Ž | D52: =INDEX(Database!$B:$G,MATCH($B52,Database!B:B,0),MATCH($D$4,Database!$B$1:$G$1,0)) -> 21 | E52: =INDEX(Database!$B:$G,MATCH($B52,Database!B:B,0),MATCH($E$4,Database!$B$1:$G$1,0)) -> 10 | F52: =INDEX(Database!$B:$G,MATCH($B52,Database!B:B,0),MATCH($F$4,Database!$B$1:$G$1,0)) -> 11 | G52: =INDEX(Database!$B:$G,MATCH($B52,Database!B:B,0),MATCH($G$4,Database!$B$1:$G$1,0)) -> Spartak - Subotica | H52: 55 | I52: X | J52: X | K52: X | L52: 0 | M52: X | N52: X | O52: X | P52: 0 | Q52: =L52+P52 -> 0 | R52: =IF(H52="","",Q52*10^((0.787004341)*LOG10(H52/153.757)^2)) -> 0
Q53: SUM | R53: =SUM(R50:R52) -> 133.21551
B54: Ime i prezime | C54: Pol | D54: dan | E54: mes | F54: god | G54: Klub | H54: Tel. Tež | I54: T r z a j | L54: R | M54: I z b a č a j | P54: R | Q54: OB | R54: Vrednost rezultata | S54: Plas
I55: 1 | J55: 2 | K55: 3 | M55: 1 | N55: 2 | O55: 3
A56: 1 | C56: =INDEX([1]Database!$B:$G,MATCH($B56,[1]Database!B:B,0),MATCH($C$4,[1]Database!$B$1:$G$1,0)) -> #N/A | D56: =INDEX([1]Database!$B:$G,MATCH($B56,[1]Database!B:B,0),MATCH($D$4,[1]Database!$B$1:$G$1,0)) -> #N/A | E56: =INDEX([1]Database!$B:$G,MATCH($B56,[1]Database!B:B,0),MATCH($E$4,[1]Database!$B$1:$G$1,0)) -> #N/A | F56: =INDEX([1]Database!$B:$G,MATCH($B56,[1]Database!B:B,0),MATCH($F$4,[1]Database!$B$1:$G$1,0)) -> #N/A | G56: =INDEX([1]Database!$B:$G,MATCH($B56,[1]Database!B:B,0),MATCH($G$4,[1]Database!$B$1:$G$1,0)) -> #N/A | Q56: =L56+P56 -> 0 | R56: =IF(H56="","",Q56*10^((0.787004341)*LOG10(H56/153.757)^2))
A57: 1 | C57: =INDEX([1]Database!$B:$G,MATCH($B57,[1]Database!B:B,0),MATCH($C$4,[1]Database!$B$1:$G$1,0)) -> #N/A | D57: =INDEX([1]Database!$B:$G,MATCH($B57,[1]Database!B:B,0),MATCH($D$4,[1]Database!$B$1:$G$1,0)) -> #N/A | E57: =INDEX([1]Database!$B:$G,MATCH($B57,[1]Database!B:B,0),MATCH($E$4,[1]Database!$B$1:$G$1,0)) -> #N/A | F57: =INDEX([1]Database!$B:$G,MATCH($B57,[1]Database!B:B,0),MATCH($F$4,[1]Database!$B$1:$G$1,0)) -> #N/A | G57: =INDEX([1]Database!$B:$G,MATCH($B57,[1]Database!B:B,0),MATCH($G$4,[1]Database!$B$1:$G$1,0)) -> #N/A | Q57: =L57+P57 -> 0 | R57: =IF(H57="","",Q57*10^((0.787004341)*LOG10(H57/153.757)^2))
A58: 1 | C58: =INDEX([1]Database!$B:$G,MATCH($B58,[1]Database!B:B,0),MATCH($C$4,[1]Database!$B$1:$G$1,0)) -> #N/A | D58: =INDEX([1]Database!$B:$G,MATCH($B58,[1]Database!B:B,0),MATCH($D$4,[1]Database!$B$1:$G$1,0)) -> #N/A | E58: =INDEX([1]Database!$B:$G,MATCH($B58,[1]Database!B:B,0),MATCH($E$4,[1]Database!$B$1:$G$1,0)) -> #N/A | F58: =INDEX([1]Database!$B:$G,MATCH($B58,[1]Database!B:B,0),MATCH($F$4,[1]Database!$B$1:$G$1,0)) -> #N/A | G58: =INDEX([1]Database!$B:$G,MATCH($B58,[1]Database!B:B,0),MATCH($G$4,[1]Database!$B$1:$G$1,0)) -> #N/A | Q58: =L58+P58 -> 0 | R58: =IF(H58="","",Q58*10^((0.787004341)*LOG10(H58/153.757)^2))
Q59: SUM | R59: =SUM(R56:R58) -> 0
C65: ZAPISNIK TAKMIČENJA
C66: EKIPNO
C67: ZA TAKMIČARKE DO 17 GODINA | Q67: 21.02.2026.
B68: Ime i prezime | C68: Pol | D68: dan | E68: mes | F68: god | G68: Klub | H68: Tel. Tež | I68: T r z a j | L68: R | M68: I z b a č a j | P68: R | Q68: OB | R68: Vrednost rezultata | S68: Plas
I69: 1 | J69: 2 | K69: 3 | M69: 1 | N69: 2 | O69: 3
A70: 1 | B70: Bojana Zoraja | C70: =INDEX(Database!$B:$G,MATCH($B70,Database!B:B,0),MATCH($C$4,Database!$B$1:$G$1,0)) -> Ž | D70: =INDEX(Database!$B:$G,MATCH($B70,Database!B:B,0),MATCH($D$4,Database!$B$1:$G$1,0)) -> 29 | E70: =INDEX(Database!$B:$G,MATCH($B70,Database!B:B,0),MATCH($E$4,Database!$B$1:$G$1,0)) -> 04 | F70: =INDEX(Database!$B:$G,MATCH($B70,Database!B:B,0),MATCH($F$4,Database!$B$1:$G$1,0)) -> 09 | G70: =INDEX(Database!$B:$G,MATCH($B70,Database!B:B,0),MATCH($G$4,Database!$B$1:$G$1,0)) -> Železničar - Inđija | H70: 59 | I70: 48 | J70: 51 | K70: 53 | L70: 53 | M70: 58 | N70: 61 | O70: 61 | P70: 58 | Q70: =L70+P70 -> 111 | R70: =IF(H70="","",Q70*10^((0.787004341)*LOG10(H70/153.757)^2)) -> 151.88245 | S70: 1
A71: 1 | B71: Marija Vajagić | C71: =INDEX(Database!$B:$G,MATCH($B71,Database!B:B,0),MATCH($C$4,Database!$B$1:$G$1,0)) -> Ž | D71: =INDEX(Database!$B:$G,MATCH($B71,Database!B:B,0),MATCH($D$4,Database!$B$1:$G$1,0)) -> 10 | E71: =INDEX(Database!$B:$G,MATCH($B71,Database!B:B,0),MATCH($E$4,Database!$B$1:$G$1,0)) -> 05 | F71: =INDEX(Database!$B:$G,MATCH($B71,Database!B:B,0),MATCH($F$4,Database!$B$1:$G$1,0)) -> 09 | G71: =INDEX(Database!$B:$G,MATCH($B71,Database!B:B,0),MATCH($G$4,Database!$B$1:$G$1,0)) -> Železničar - Inđija | H71: 55.7 | I71: 48 | J71: 50 | K71: 50 | L71: 50 | M71: 55 | N71: 58 | O71: X | P71: 55 | Q71: =L71+P71 -> 105 | R71: =IF(H71="","",Q71*10^((0.787004341)*LOG10(H71/153.757)^2)) -> 149.35941
A72: 2 | B72: Sara Klarić | C72: =INDEX(Database!$B:$G,MATCH($B72,Database!B:B,0),MATCH($C$4,Database!$B$1:$G$1,0)) -> Ž | D72: =INDEX(Database!$B:$G,MATCH($B72,Database!B:B,0),MATCH($D$4,Database!$B$1:$G$1,0)) -> 10 | E72: =INDEX(Database!$B:$G,MATCH($B72,Database!B:B,0),MATCH($E$4,Database!$B$1:$G$1,0)) -> 11 | F72: =INDEX(Database!$B:$G,MATCH($B72,Database!B:B,0),MATCH($F$4,Database!$B$1:$G$1,0)) -> 12 | G72: =INDEX(Database!$B:$G,MATCH($B72,Database!B:B,0),MATCH($G$4,Database!$B$1:$G$1,0)) -> Železničar - Inđija | H72: 53.5 | I72: 28 | J72: 31 | K72: 31 | L72: 28 | M72: 38 | N72: 41 | O72: X | P72: 38 | Q72: =L72+P72 -> 66 | R72: =IF(H72="","",Q72*10^((0.787004341)*LOG10(H72/153.757)^2)) -> 96.599778
Q73: SUM | R73: =SUM(R70:R72) -> 397.84164
B74: Ime i prezime | C74: Pol | D74: dan | E74: mes | F74: god | G74: Klub | H74: Tel. Tež | I74: T r z a j | L74: R | M74: I z b a č a j | P74: R | Q74: OB | R74: Vrednost rezultata | S74: Plas
I75: 1 | J75: 2 | K75: 3 | M75: 1 | N75: 2 | O75: 3
A76: 1 | C76: =INDEX([1]Database!$B:$G,MATCH($B76,[1]Database!B:B,0),MATCH($C$4,[1]Database!$B$1:$G$1,0)) -> #N/A | D76: =INDEX([1]Database!$B:$G,MATCH($B76,[1]Database!B:B,0),MATCH($D$4,[1]Database!$B$1:$G$1,0)) -> #N/A | E76: =INDEX([1]Database!$B:$G,MATCH($B76,[1]Database!B:B,0),MATCH($E$4,[1]Database!$B$1:$G$1,0)) -> #N/A | F76: =INDEX([1]Database!$B:$G,MATCH($B76,[1]Database!B:B,0),MATCH($F$4,[1]Database!$B$1:$G$1,0)) -> #N/A | G76: =INDEX([1]Database!$B:$G,MATCH($B76,[1]Database!B:B,0),MATCH($G$4,[1]Database!$B$1:$G$1,0)) -> #N/A | Q76: =L76+P76 -> 0 | R76: =IF(H76="","",Q76*10^((0.787004341)*LOG10(H76/153.757)^2))
A77: 1 | C77: =INDEX([1]Database!$B:$G,MATCH($B77,[1]Database!B:B,0),MATCH($C$4,[1]Database!$B$1:$G$1,0)) -> #N/A | D77: =INDEX([1]Database!$B:$G,MATCH($B77,[1]Database!B:B,0),MATCH($D$4,[1]Database!$B$1:$G$1,0)) -> #N/A | E77: =INDEX([1]Database!$B:$G,MATCH($B77,[1]Database!B:B,0),MATCH($E$4,[1]Database!$B$1:$G$1,0)) -> #N/A | F77: =INDEX([1]Database!$B:$G,MATCH($B77,[1]Database!B:B,0),MATCH($F$4,[1]Database!$B$1:$G$1,0)) -> #N/A | G77: =INDEX([1]Database!$B:$G,MATCH($B77,[1]Database!B:B,0),MATCH($G$4,[1]Database!$B$1:$G$1,0)) -> #N/A | Q77: =L77+P77 -> 0 | R77: =IF(H77="","",Q77*10^((0.787004341)*LOG10(H77/153.757)^2))
A78: 1 | C78: =INDEX([1]Database!$B:$G,MATCH($B78,[1]Database!B:B,0),MATCH($C$4,[1]Database!$B$1:$G$1,0)) -> #N/A | D78: =INDEX([1]Database!$B:$G,MATCH($B78,[1]Database!B:B,0),MATCH($D$4,[1]Database!$B$1:$G$1,0)) -> #N/A | E78: =INDEX([1]Database!$B:$G,MATCH($B78,[1]Database!B:B,0),MATCH($E$4,[1]Database!$B$1:$G$1,0)) -> #N/A | F78: =INDEX([1]Database!$B:$G,MATCH($B78,[1]Database!B:B,0),MATCH($F$4,[1]Database!$B$1:$G$1,0)) -> #N/A | G78: =INDEX([1]Database!$B:$G,MATCH($B78,[1]Database!B:B,0),MATCH($G$4,[1]Database!$B$1:$G$1,0)) -> #N/A | Q78: =L78+P78 -> 0 | R78: =IF(H78="","",Q78*10^((0.787004341)*LOG10(H78/153.757)^2))
Q79: SUM | R79: =SUM(R76:R78) -> 0

Sheet M
C1: ZAPISNIK TAKMIČENJA
C2: POJEDINAČNO PRVENSTVO VOJVODINE
C3: ZA TAKMIČARE DO 15 GOD. | Q3: 21.02.2026.
B4: Ime i prezime | C4: Pol | D4: dan | E4: mes | F4: god | G4: Klub | H4: Tel. Tež | I4: T r z a j | L4: R | M4: I z b a č a j | P4: R | Q4: OB | R4: Vrednost rezultata | S4: Plas
I5: 1 | J5: 2 | K5: 3 | M5: 1 | N5: 2 | O5: 3
A6: 52
A7: 1 | B7: Igor Stefanović | C7: =INDEX(Database!$B:$G,MATCH($B7,Database!B:B,0),MATCH($C$4,Database!$B$1:$G$1,0)) -> M | D7: =INDEX(Database!$B:$G,MATCH($B7,Database!$B:$B,0),MATCH($D$4,Database!$B$1:$G$1,0)) -> 27 | E7: =INDEX(Database!$B:$G,MATCH($B7,Database!$B:$B,0),MATCH($E$4,Database!$B$1:$G$1,0)) -> 08 | F7: =INDEX(Database!$B:$G,MATCH($B7,Database!$B:$B,0),MATCH($F$4,Database!$B$1:$G$1,0)) -> 13 | G7: =INDEX(Database!$B:$G,MATCH($B7,Database!$B:$B,0),MATCH($G$4,Database!$B$1:$G$1,0)) -> Herkules - Bač | H7: 37.6 | I7: 13 | J7: 15 | K7: 17 | L7: 17 | M7: 15 | N7: 20 | O7: 22 | P7: 20 | Q7: =L7+P7 -> 37 | R7: =IF(H7="","",Q7*10^((0.722762521)*LOG10(H7/193.609)^2)) -> 85.967032 | S7: 3
A8: 2 | B8: Miloš Hajek | C8: =INDEX(Database!$B:$G,MATCH($B8,Database!B:B,0),MATCH($C$4,Database!$B$1:$G$1,0)) -> M | D8: =INDEX(Database!$B:$G,MATCH($B8,Database!$B:$B,0),MATCH($D$4,Database!$B$1:$G$1,0)) -> 03 | E8: =INDEX(Database!$B:$G,MATCH($B8,Database!$B:$B,0),MATCH($E$4,Database!$B$1:$G$1,0)) -> 12 | F8: =INDEX(Database!$B:$G,MATCH($B8,Database!$B:$B,0),MATCH($F$4,Database!$B$1:$G$1,0)) -> 15 | G8: =INDEX(Database!$B:$G,MATCH($B8,Database!$B:$B,0),MATCH($G$4,Database!$B$1:$G$1,0)) -> Herkules - Bač | H8: 24.5 | I8: 13 | J8: 14 | K8: 15 | L8: 15 | M8: 15 | N8: 18 | O8: 20 | P8: 20 | Q8: =L8+P8 -> 35 | R8: =IF(H8="","",Q8*10^((0.722762521)*LOG10(H8/193.609)^2)) -> 133.84262 | S8: 2
A9: 3 | B9: Bojan Nikolić | C9: =INDEX(Database!$B:$G,MATCH($B9,Database!B:B,0),MATCH($C$4,Database!$B$1:$G$1,0)) -> M | D9: =INDEX(Database!$B:$G,MATCH($B9,Database!$B:$B,0),MATCH($D$4,Database!$B$1:$G$1,0)) -> 07 | E9: =INDEX(Database!$B:$G,MATCH($B9,Database!$B:$B,0),MATCH($E$4,Database!$B$1:$G$1,0)) -> 09 | F9: =INDEX(Database!$B:$G,MATCH($B9,Database!$B:$B,0),MATCH($F$4,Database!$B$1:$G$1,0)) -> 16 | G9: =INDEX(Database!$B:$G,MATCH($B9,Database!$B:$B,0),MATCH($G$4,Database!$B$1:$G$1,0)) -> Herkules - Bač | H9: 40.1 | I9: 12 | J9: 13 | K9: 15 | L9: 13 | M9: 15 | N9: 18 | O9: 20 | P9: 20 | Q9: =L9+P9 -> 33 | R9: =IF(H9="","",Q9*10^((0.722762521)*LOG10(H9/193.609)^2)) -> 71.853246
A10: 4 | B10: Luka Hajek | C10: =INDEX(Database!$B:$G,MATCH($B10,Database!B:B,0),MATCH($C$4,Database!$B$1:$G$1,0)) -> M | D10: =INDEX(Database!$B:$G,MATCH($B10,Database!$B:$B,0),MATCH($D$4,Database!$B$1:$G$1,0)) -> 25 | E10: =INDEX(Database!$B:$G,MATCH($B10,Database!$B:$B,0),MATCH($E$4,Database!$B$1:$G$1,0)) -> 11 | F10: =INDEX(Database!$B:$G,MATCH($B10,Database!$B:$B,0),MATCH($F$4,Database!$B$1:$G$1,0)) -> 11 | G10: =INDEX(Database!$B:$G,MATCH($B10,Database!$B:$B,0),MATCH($G$4,Database!$B$1:$G$1,0)) -> Herkules - Bač | H10: 50.3 | I10: 45 | J10: 48 | K10: 52 | L10: 52 | M10: 60 | N10: 65 | O10: 70 | P10: 70 | Q10: =L10+P10 -> 122 | R10: =IF(H10="","",Q10*10^((0.722762521)*LOG10(H10/193.609)^2)) -> 215.77925 | S10: 1
A11: 56
A12: 60
A13: 1 | B13: Herold Hauk | C13: =INDEX(Database!$B:$G,MATCH($B13,Database!B:B,0),MATCH($C$4,Database!$B$1:$G$1,0)) -> M | D13: =INDEX(Database!$B:$G,MATCH($B13,Database!$B:$B,0),MATCH($D$4,Database!$B$1:$G$1,0)) -> 01 | E13: =INDEX(Database!$B:$G,MATCH($B13,Database!$B:$B,0),MATCH($E$4,Database!$B$1:$G$1,0)) -> 03 | F13: =INDEX(Database!$B:$G,MATCH($B13,Database!$B:$B,0),MATCH($F$4,Database!$B$1:$G$1,0)) -> 11 | G13: =INDEX(Database!$B:$G,MATCH($B13,Database!$B:$B,0),MATCH($G$4,Database!$B$1:$G$1,0)) -> Spartak - Subotica | H13: 57.6 | I13: 60 | J13: 65 | K13: 70 | L13: 65 | M13: 75 | N13: 80 | O13: 85 | P13: 80 | Q13: =L13+P13 -> 145 | R13: =IF(H13="","",Q13*10^((0.722762521)*LOG10(H13/193.609)^2)) -> 229.99676 | S13: 1
A14: 2 | B14: Marko Šuštum | C14: =INDEX(Database!$B:$G,MATCH($B14,Database!B:B,0),MATCH($C$4,Database!$B$1:$G$1,0)) -> M | D14: =INDEX(Database!$B:$G,MATCH($B14,Database!$B:$B,0),MATCH($D$4,Database!$B$1:$G$1,0)) -> 26 | E14: =INDEX(Database!$B:$G,MATCH($B14,Database!$B:$B,0),MATCH($E$4,Database!$B$1:$G$1,0)) -> 01 | F14: =INDEX(Database!$B:$G,MATCH($B14,Database!$B:$B,0),MATCH($F$4,Database!$B$1:$G$1,0)) -> 13 | G14: =INDEX(Database!$B:$G,MATCH($B14,Database!$B:$B,0),MATCH($G$4,Database!$B$1:$G$1,0)) -> Herkules - Bač | H14: 59.2 | I14: 35 | J14: 40 | K14: 45 | L14: 40 | M14: 50 | N14: 55 | O14: 57 | P14: 55 | Q14: =L14+P14 -> 95 | R14: =IF(H14="","",Q14*10^((0.722762521)*LOG10(H14/193.609)^2)) -> 147.61262 | S14: 2
A15: 65
A16: 1 | B16: Novak Kovačević | C16: =INDEX(Database!$B:$G,MATCH($B16,Database!B:B,0),MATCH($C$4,Database!$B$1:$G$1,0)) -> M | D16: =INDEX(Database!$B:$G,MATCH($B16,Database!$B:$B,0),MATCH($D$4,Database!$B$1:$G$1,0)) -> 30 | E16: =INDEX(Database!$B:$G,MATCH($B16,Database!$B:$B,0),MATCH($E$4,Database!$B$1:$G$1,0)) -> 03 | F16: =INDEX(Database!$B:$G,MATCH($B16,Database!$B:$B,0),MATCH($F$4,Database!$B$1:$G$1,0)) -> 11 | G16: =INDEX(Database!$B:$G,MATCH($B16,Database!$B:$B,0),MATCH($G$4,Database!$B$1:$G$1,0)) -> Radnički - Sombor | H16: 64.7 | I16: 32 | J16: 35 | K16: 38 | L16: 35 | M16: 50 | N16: 55 | O16: 60 | P16: 55 | Q16: =L16+P16 -> 90 | R16: =IF(H16="","",Q16*10^((0.722762521)*LOG10(H16/193.609)^2)) -> 131.22536 | S16: 1
A17: 71
A18: 1 | B18: Aron Mačai | C18: =INDEX(Database!$B:$G,MATCH($B18,Database!B:B,0),MATCH($C$4,Database!$B$1:$G$1,0)) -> M | D18: =INDEX(Database!$B:$G,MATCH($B18,Database!$B:$B,0),MATCH($D$4,Database!$B$1:$G$1,0)) -> 06 | E18: =INDEX(Database!$B:$G,MATCH($B18,Database!$B:$B,0),MATCH($E$4,Database!$B$1:$G$1,0)) -> 10 | F18: =INDEX(Database!$B:$G,MATCH($B18,Database!$B:$B,0),MATCH($F$4,Database!$B$1:$G$1,0)) -> 11 | G18: =INDEX(Database!$B:$G,MATCH($B18,Database!$B:$B,0),MATCH($G$4,Database!$B$1:$G$1,0)) -> Spartak - Subotica | H18: 68.8 | I18: 37 | J18: 42 | K18: 42 | L18: 42 | M18: 50 | N18: 55 | O18: 55 | P18: 50 | Q18: =L18+P18 -> 92 | R18: =IF(H18="","",Q18*10^((0.722762521)*LOG10(H18/193.609)^2)) -> 128.74084 | S18: 1
A19: 79
A20: 88
A21: +88
A22: 1 | B22: Mate Kovač | C22: =INDEX(Database!$B:$G,MATCH($B22,Database!B:B,0),MATCH($C$4,Database!$B$1:$G$1,0)) -> M | D22: =INDEX(Database!$B:$G,MATCH($B22,Database!$B:$B,0),MATCH($D$4,Database!$B$1:$G$1,0)) -> 30 | E22: =INDEX(Database!$B:$G,MATCH($B22,Database!$B:$B,0),MATCH($E$4,Database!$B$1:$G$1,0)) -> 10 | F22: =INDEX(Database!$B:$G,MATCH($B22,Database!$B:$B,0),MATCH($F$4,Database!$B$1:$G$1,0)) -> 12 | G22: =INDEX(Database!$B:$G,MATCH($B22,Database!$B:$B,0),MATCH($G$4,Database!$B$1:$G$1,0)) -> Spartak - Subotica | H22: 99.3 | I22: 25 | J22: 30 | K22: 33 | L22: 30 | M22: 35 | N22: 40 | O22: 45 | P22: 45 | Q22: =L22+P22 -> 75 | R22: =IF(H22="","",Q22*10^((0.722762521)*LOG10(H22/193.609)^2)) -> 86.265204 | S22: 1
B23: Delegat saveza: | C23: Rita Špajzer | I23: Sudije: | K23: 1 | L23: Rita Špajzer
B24: Sekretari takmičenja: | C24: Tivadar Kajdoči | K24: 2 | L24: Siniša Tanasković
C25: Radmila Zagorac | K25: 3 | L25: Stevan Vladisavljev
G26: Bač, 21.02.2026 | H26: mesto, datum
C27: ZAPISNIK TAKMIČENJA
C28: POJEDINAČNO PRVENSTVO VOJVODINE
C29: ZA TAKMIČARE DO 17 GOD | Q29: 21.02.2026.
B30: Ime i prezime | C30: Pol | D30: dan | E30: mes | F30: god | G30: Klub | H30: Tel. Tež | I30: T r z a j | L30: R | M30: I z b a č a j | P30: R | Q30: OB | R30: Vrednost rezultata | S30: Plas
I31: 1 | J31: 2 | K31: 3 | M31: 1 | N31: 2 | O31: 3
A32: 56
A33: 60
A34: 65
A35: 1 | B35: Nikola Martinović | C35: =INDEX(Database!$B:$G,MATCH($B35,Database!B:B,0),MATCH($C$4,Database!$B$1:$G$1,0)) -> M | D35: =INDEX(Database!$B:$G,MATCH($B35,Database!$B:$B,0),MATCH($D$4,Database!$B$1:$G$1,0)) -> 21 | E35: =INDEX(Database!$B:$G,MATCH($B35,Database!$B:$B,0),MATCH($E$4,Database!$B$1:$G$1,0)) -> 02 | F35: =INDEX(Database!$B:$G,MATCH($B35,Database!$B:$B,0),MATCH($F$4,Database!$B$1:$G$1,0)) -> 10 | G35: =INDEX(Database!$B:$G,MATCH($B35,Database!$B:$B,0),MATCH($G$4,Database!$B$1:$G$1,0)) -> Radnički - Sombor | H35: 64.2 | I35: 70 | J35: 75 | K35: 78 | L35: 78 | M35: 90 | N35: 95 | O35: 98 | P35: 95 | Q35: =L35+P35 -> 173 | R35: =IF(H35="","",Q35*10^((0.722762521)*LOG10(H35/193.609)^2)) -> 253.59925 | S35: 1
A36: 71
A37: 1 | B37: Ričard Nemet | C37: =INDEX(Database!$B:$G,MATCH($B37,Database!B:B,0),MATCH($C$4,Database!$B$1:$G$1,0)) -> M | D37: =INDEX(Database!$B:$G,MATCH($B37,Database!$B:$B,0),MATCH($D$4,Database!$B$1:$G$1,0)) -> 14 | E37: =INDEX(Database!$B:$G,MATCH($B37,Database!$B:$B,0),MATCH($E$4,Database!$B$1:$G$1,0)) -> 02 | F37: =INDEX(Database!$B:$G,MATCH($B37,Database!$B:$B,0),MATCH($F$4,Database!$B$1:$G$1,0)) -> 09 | G37: =INDEX(Database!$B:$G,MATCH($B37,Database!$B:$B,0),MATCH($G$4,Database!$B$1:$G$1,0)) -> Spartak - Subotica | H37: 69.7 | I37: 85 | J37: 90 | K37: 90 | L37: 90 | M37: 105 | N37: 107 | O37: 110 | P37: 110 | Q37: =L37+P37 -> 200 | R37: =IF(H37="","",Q37*10^((0.722762521)*LOG10(H37/193.609)^2)) -> 277.53348 | S37: 1
A38: 2 | B38: David Milošević | C38: =INDEX(Database!$B:$G,MATCH($B38,Database!B:B,0),MATCH($C$4,Database!$B$1:$G$1,0)) -> M | D38: =INDEX(Database!$B:$G,MATCH($B38,Database!$B:$B,0),MATCH($D$4,Database!$B$1:$G$1,0)) -> 04 | E38: =INDEX(Database!$B:$G,MATCH($B38,Database!$B:$B,0),MATCH($E$4,Database!$B$1:$G$1,0)) -> 04 | F38: =INDEX(Database!$B:$G,MATCH($B38,Database!$B:$B,0),MATCH($F$4,Database!$B$1:$G$1,0)) -> 09 | G38: =INDEX(Database!$B:$G,MATCH($B38,Database!$B:$B,0),MATCH($G$4,Database!$B$1:$G$1,0)) -> Radnički - Sombor | H38: 71 | I38: 80 | J38: 85 | K38: 90 | L38: 90 | M38: 102 | N38: 107 | O38: 108 | P38: 108 | Q38: =L38+P38 -> 198 | R38: =IF(H38="","",Q38*10^((0.722762521)*LOG10(H38/193.609)^2)) -> 271.54999 | S38: 2
A39: 79
A40: 1 | B40: Patrik Senji | C40: =INDEX(Database!$B:$G,MATCH($B40,Database!B:B,0),MATCH($C$4,Database!$B$1:$G$1,0)) -> M | D40: =INDEX(Database!$B:$G,MATCH($B40,Database!$B:$B,0),MATCH($D$4,Database!$B$1:$G$1,0)) -> 29 | E40: =INDEX(Database!$B:$G,MATCH($B40,Database!$B:$B,0),MATCH($E$4,Database!$B$1:$G$1,0)) -> 01 | F40: =INDEX(Database!$B:$G,MATCH($B40,Database!$B:$B,0),MATCH($F$4,Database!$B$1:$G$1,0)) -> 09 | G40: =INDEX(Database!$B:$G,MATCH($B40,Database!$B:$B,0),MATCH($G$4,Database!$B$1:$G$1,0)) -> Spartak - Subotica | H40: 77.1 | I40: 85 | J40: 90 | K40: 95 | L40: 90 | M40: 105 | N40: 110 | O40: 115 | P40: 115 | Q40: =L40+P40 -> 205 | R40: =IF(H40="","",Q40*10^((0.722762521)*LOG10(H40/193.609)^2)) -> 267.49852 | S40: 1
A41: 88
A42: 94
A43: +94
B44: Delegat saveza: | C44: Rita Špajzer | I44: Sudije: | K44: 1 | L44: Rita Špajzer
B45: Sekretari takmičenja: | C45: Tivadar Kajdoči | K45: 2 | L45: Siniša Tanasković
C46: Radmila Zagorac | K46: 3 | L46: Stevan Vladisavljev
G47: Bač, 21.02.2026 | H47: mesto, datum
C50: ZAPISNIK TAKMIČENJA
C51: EKIPNO
C52: ZA TAKMIČARE DO 15 GODINA | Q52: 21.02.2026.
B53: Ime i prezime | C53: Pol | D53: dan | E53: mes | F53: god | G53: Klub | H53: Tel. Tež | I53: T r z a j | L53: R | M53: I z b a č a j | P53: R | Q53: OB | R53: Vrednost rezultata | S53: Plas
I54: 1 | J54: 2 | K54: 3 | M54: 1 | N54: 2 | O54: 3
A55: 4 | B55: Luka Hajek | C55: =INDEX(Database!$B:$G,MATCH($B55,Database!B:B,0),MATCH($C$4,Database!$B$1:$G$1,0)) -> M | D55: =INDEX(Database!$B:$G,MATCH($B55,Database!$B:$B,0),MATCH($D$4,Database!$B$1:$G$1,0)) -> 25 | E55: =INDEX(Database!$B:$G,MATCH($B55,Database!$B:$B,0),MATCH($E$4,Database!$B$1:$G$1,0)) -> 11 | F55: =INDEX(Database!$B:$G,MATCH($B55,Database!$B:$B,0),MATCH($F$4,Database!$B$1:$G$1,0)) -> 11 | G55: =INDEX(Database!$B:$G,MATCH($B55,Database!$B:$B,0),MATCH($G$4,Database!$B$1:$G$1,0)) -> Herkules - Bač | H55: 50.3 | I55: 45 | J55: 48 | K55: 52 | L55: 52 | M55: 60 | N55: 65 | O55: 70 | P55: 70 | Q55: =L55+P55 -> 122 | R55: =IF(H55="","",Q55*10^((0.722762521)*LOG10(H55/193.609)^2)) -> 215.77925 | S55: 1
A56: 2 | B56: Marko Šuštum | C56: =INDEX(Database!$B:$G,MATCH($B56,Database!B:B,0),MATCH($C$4,Database!$B$1:$G$1,0)) -> M | D56: =INDEX(Database!$B:$G,MATCH($B56,Database!$B:$B,0),MATCH($D$4,Database!$B$1:$G$1,0)) -> 26 | E56: =INDEX(Database!$B:$G,MATCH($B56,Database!$B:$B,0),MATCH($E$4,Database!$B$1:$G$1,0)) -> 01 | F56: =INDEX(Database!$B:$G,MATCH($B56,Database!$B:$B,0),MATCH($F$4,Database!$B$1:$G$1,0)) -> 13 | G56: =INDEX(Database!$B:$G,MATCH($B56,Database!$B:$B,0),MATCH($G$4,Database!$B$1:$G$1,0)) -> Herkules - Bač | H56: 59.2 | I56: 35 | J56: 40 | K56: 45 | L56: 40 | M56: 50 | N56: 55 | O56: 57 | P56: 55 | Q56: =L56+P56 -> 95 | R56: =IF(H56="","",Q56*10^((0.722762521)*LOG10(H56/193.609)^2)) -> 147.61262
A57: 1 | B57: Igor Stefanović | C57: =INDEX(Database!$B:$G,MATCH($B57,Database!B:B,0),MATCH($C$4,Database!$B$1:$G$1,0)) -> M | D57: =INDEX(Database!$B:$G,MATCH($B57,Database!$B:$B,0),MATCH($D$4,Database!$B$1:$G$1,0)) -> 27 | E57: =INDEX(Database!$B:$G,MATCH($B57,Database!$B:$B,0),MATCH($E$4,Database!$B$1:$G$1,0)) -> 08 | F57: =INDEX(Database!$B:$G,MATCH($B57,Database!$B:$B,0),MATCH($F$4,Database!$B$1:$G$1,0)) -> 13 | G57: =INDEX(Database!$B:$G,MATCH($B57,Database!$B:$B,0),MATCH($G$4,Database!$B$1:$G$1,0)) -> Herkules - Bač | H57: 37.6 | I57: 13 | J57: 15 | K57: 17 | L57: 17 | M57: 15 | N57: 20 | O57: 22 | P57: 20 | Q57: =L57+P57 -> 37 | R57: =IF(H57="","",Q57*10^((0.722762521)*LOG10(H57/193.609)^2)) -> 85.967032
A58: 2 | B58: Miloš Hajek | C58: =INDEX(Database!$B:$G,MATCH($B58,Database!B:B,0),MATCH($C$4,Database!$B$1:$G$1,0)) -> M | D58: =INDEX(Database!$B:$G,MATCH($B58,Database!$B:$B,0),MATCH($D$4,Database!$B$1:$G$1,0)) -> 03 | E58: =INDEX(Database!$B:$G,MATCH($B58,Database!$B:$B,0),MATCH($E$4,Database!$B$1:$G$1,0)) -> 12 | F58: =INDEX(Database!$B:$G,MATCH($B58,Database!$B:$B,0),MATCH($F$4,Database!$B$1:$G$1,0)) -> 15 | G58: =INDEX(Database!$B:$G,MATCH($B58,Database!$B:$B,0),MATCH($G$4,Database!$B$1:$G$1,0)) -> Herkules - Bač | H58: 24.5 | I58: 13 | J58: 14 | K58: 15 | L58: 15 | M58: 15 | N58: 18 | O58: 20 | P58: 20 | Q58: =L58+P58 -> 35 | R58: =IF(H58="","",Q58*10^((0.722762521)*LOG10(H58/193.609)^2)) -> 133.84262
Q59: SUM | R59: =SUM(R55:R58) -> 583.20153
B60: Ime i prezime | C60: Pol | D60: dan | E60: mes | F60: god | G60: Klub | H60: Tel. Tež | I60: T r z a j | L60: R | M60: I z b a č a j | P60: R | Q60: OB | R60: Vrednost rezultata | S60: Plas
I61: 1 | J61: 2 | K61: 3 | M61: 1 | N61: 2 | O61: 3
A62: 1 | C62: =INDEX([1]Database!$B:$G,MATCH($B62,[1]Database!B:B,0),MATCH($C$4,[1]Database!$B$1:$G$1,0)) -> #N/A | D62: =INDEX([1]Database!$B:$G,MATCH($B62,[1]Database!B:B,0),MATCH($D$4,[1]Database!$B$1:$G$1,0)) -> #N/A | E62: =INDEX([1]Database!$B:$G,MATCH($B62,[1]Database!B:B,0),MATCH($E$4,[1]Database!$B$1:$G$1,0)) -> #N/A | F62: =INDEX([1]Database!$B:$G,MATCH($B62,[1]Database!B:B,0),MATCH($F$4,[1]Database!$B$1:$G$1,0)) -> #N/A | G62: =INDEX([1]Database!$B:$G,MATCH($B62,[1]Database!B:B,0),MATCH($G$4,[1]Database!$B$1:$G$1,0)) -> #N/A | Q62: =L62+P62 -> 0 | R62: =IF(H62="","",Q62*10^((0.787004341)*LOG10(H62/153.757)^2))
A63: 1 | C63: =INDEX([1]Database!$B:$G,MATCH($B63,[1]Database!B:B,0),MATCH($C$4,[1]Database!$B$1:$G$1,0)) -> #N/A | D63: =INDEX([1]Database!$B:$G,MATCH($B63,[1]Database!B:B,0),MATCH($D$4,[1]Database!$B$1:$G$1,0)) -> #N/A | E63: =INDEX([1]Database!$B:$G,MATCH($B63,[1]Database!B:B,0),MATCH($E$4,[1]Database!$B$1:$G$1,0)) -> #N/A | F63: =INDEX([1]Database!$B:$G,MATCH($B63,[1]Database!B:B,0),MATCH($F$4,[1]Database!$B$1:$G$1,0)) -> #N/A | G63: =INDEX([1]Database!$B:$G,MATCH($B63,[1]Database!B:B,0),MATCH($G$4,[1]Database!$B$1:$G$1,0)) -> #N/A | Q63: =L63+P63 -> 0 | R63: =IF(H63="","",Q63*10^((0.787004341)*LOG10(H63/153.757)^2))
A64: 1 | C64: =INDEX([1]Database!$B:$G,MATCH($B64,[1]Database!B:B,0),MATCH($C$4,[1]Database!$B$1:$G$1,0)) -> #N/A | D64: =INDEX([1]Database!$B:$G,MATCH($B64,[1]Database!B:B,0),MATCH($D$4,[1]Database!$B$1:$G$1,0)) -> #N/A | E64: =INDEX([1]Database!$B:$G,MATCH($B64,[1]Database!B:B,0),MATCH($E$4,[1]Database!$B$1:$G$1,0)) -> #N/A | F64: =INDEX([1]Database!$B:$G,MATCH($B64,[1]Database!B:B,0),MATCH($F$4,[1]Database!$B$1:$G$1,0)) -> #N/A | G64: =INDEX([1]Database!$B:$G,MATCH($B64,[1]Database!B:B,0),MATCH($G$4,[1]Database!$B$1:$G$1,0)) -> #N/A | Q64: =L64+P64 -> 0 | R64: =IF(H64="","",Q64*10^((0.787004341)*LOG10(H64/153.757)^2))
Q65: SUM | R65: =SUM(R62:R64) -> 0

Sheet Ekipe
A1: EKIPA
A5: KLUB:
A9: Muška | F9: Ženska
A13: 1 | F13: 1
A16: 2 | F16: 2
A19: 3 | F19: 3
A22: 4
A26: EKIPA
A30: KLUB:
A34: Muška | F34: Ženska
A38: 1 | F38: 1
A41: 2 | F41: 2
A44: 3 | F44: 3
A47: 4

Sheet karton
B2: red br | F2: Bojana Zoraja | P2: red br | T2: Marija Vajagić
C4: U17 | Q4: U17
G6: =INDEX(Database!$B:$G,MATCH(F2,Database!$B:$B,0),MATCH(F7,Database!$B1:$G1,0)) -> Železničar - Inđija | U6: =INDEX(Database!$B:$G,MATCH(T2,Database!$B:$B,0),MATCH(T7,Database!$B1:$G1,0)) -> Železničar - Inđija
F7: klub | T7: klub
F10: tel tež | J10: kat | T10: tel tež | X10: kat
B12: 1 pokusaj | F12: 2 pokusaj | J12: 3 pokusaj | P12: 1 pokusaj | T12: 2 pokusaj | X12: 3 pokusaj
A13: trzaj | O13: trzaj
A24: izbacaj | O24: izbacaj
B37: red br | F37: Sara Klarić | P37: red br | T37: Herold Hauk
C39: U17 | Q39: U15
G41: =INDEX(Database!$B:$G,MATCH(F37,Database!$B:$B,0),MATCH(F42,Database!$B1:$G1,0)) -> Železničar - Inđija | U41: =INDEX(Database!$B:$G,MATCH(T37,Database!$B:$B,0),MATCH(T42,Database!$B1:$G1,0)) -> Spartak - Subotica
F42: klub | T42: klub
F45: tel tež | J45: kat | T45: tel tež | X45: kat
B47: 1 pokusaj | F47: 2 pokusaj | J47: 3 pokusaj | P47: 1 pokusaj | T47: 2 pokusaj | X47: 3 pokusaj
A48: trzaj | O48: trzaj
A59: izbacaj | O59: izbacaj
B72: red br | F72: Mila Đorović | P72: red br | T72: Melania Farago
C74: U15 | Q74: U15
G76: =INDEX(Database!$B:$G,MATCH(F72,Database!$B:$B,0),MATCH(F77,Database!$B$1:$G$1,0)) -> Spartak - Subotica | U76: =INDEX(Database!$B:$G,MATCH(T72,Database!$B:$B,0),MATCH(T77,Database!$B$1:$G$1,0)) -> Spartak - Subotica
F77: klub | T77: klub
F80: tel tež | J80: kat | T80: tel tež | X80: kat
B82: 1 pokusaj | F82: 2 pokusaj | J82: 3 pokusaj | P82: 1 pokusaj | T82: 2 pokusaj | X82: 3 pokusaj
A83: trzaj | O83: trzaj
A94: izbacaj | O94: izbacaj
B107: red br | F107: Aron Mačai | P107: red br | T107: Mate Kovač
C109: U15 | Q109: U15
G111: =INDEX(Database!$B:$G,MATCH(F107,Database!$B:$B,0),MATCH(F112,Database!$B$1:$G$1,0)) -> Spartak - Subotica | U111: =INDEX(Database!$B:$G,MATCH(T107,Database!$B:$B,0),MATCH(T112,Database!$B$1:$G$1,0)) -> Spartak - Subotica
F112: klub | T112: klub
F115: tel tež | J115: kat | T115: tel tež | X115: kat
B117: 1 pokusaj | F117: 2 pokusaj | J117: 3 pokusaj | P117: 1 pokusaj | T117: 2 pokusaj | X117: 3 pokusaj
A118: trzaj | O118: trzaj
A129: izbacaj | O129: izbacaj
B142: red br | F142: Vivien Milanković | P142: red br | T142: Patrik Senji
C144: U15 | Q144: U17
G146: =INDEX(Database!$B:$G,MATCH(F142,Database!$B:$B,0),MATCH(F147,Database!$B$1:$G$1,0)) -> Spartak - Subotica | U146: =INDEX(Database!$B:$G,MATCH(T142,Database!$B:$B,0),MATCH(T147,Database!$B$1:$G$1,0)) -> Spartak - Subotica
F147: klub | T147: klub
F150: tel tež | J150: kat | T150: tel tež | X150: kat
B152: 1 pokusaj | F152: 2 pokusaj | J152: 3 pokusaj | P152: 1 pokusaj | T152: 2 pokusaj | X152: 3 pokusaj
A153: trzaj | O153: trzaj
A164: izbacaj | O164: izbacaj
B177: red br | F177: Ričard Nemet | P177: red br | T177: Svetozar Marković
C179: U17 | Q179: U15
G181: =INDEX(Database!$B:$G,MATCH(F177,Database!$B:$B,0),MATCH(F182,Database!$B$1:$G$1,0)) -> Spartak - Subotica | U181: =INDEX(Database!$B:$G,MATCH(T177,Database!$B:$B,0),MATCH(T182,Database!$B$1:$G$1,0)) -> Herkules - Bač
F182: klub | T182: klub
F185: tel tež | J185: kat | T185: tel tež | X185: kat
B187: 1 pokusaj | F187: 2 pokusaj | J187: 3 pokusaj | P187: 1 pokusaj | T187: 2 pokusaj | X187: 3 pokusaj
A188: trzaj | O188: trzaj
A199: izbacaj | O199: izbacaj
B212: red br | F212: Igor Stefanović | P212: red br | T212: Miloš Hajek
C214: U15 | Q214: U15
G216: =INDEX(Database!$B:$G,MATCH(F212,Database!$B:$B,0),MATCH(F217,Database!$B$1:$G$1,0)) -> Herkules - Bač | U216: =INDEX(Database!$B:$G,MATCH(T212,Database!$B:$B,0),MATCH(T217,Database!$B$1:$G$1,0)) -> Herkules - Bač
F217: klub | T217: klub
F220: tel tež | J220: kat | T220: tel tež | X220: kat
B222: 1 pokusaj | F222: 2 pokusaj | J222: 3 pokusaj | P222: 1 pokusaj | T222: 2 pokusaj | X222: 3 pokusaj
A223: trzaj | O223: trzaj
A234: izbacaj | O234: izbacaj
B247: red br | F247: Bojan Nikolić | P247: red br | T247: Luka Hajek
C249: U15 | Q249: U15
G251: =INDEX(Database!$B:$G,MATCH(F247,Database!$B:$B,0),MATCH(F252,Database!$B$1:$G$1,0)) -> Herkules - Bač | U251: =INDEX(Database!$B:$G,MATCH(T247,Database!$B:$B,0),MATCH(T252,Database!$B$1:$G$1,0)) -> Herkules - Bač
F252: klub | T252: klub
F255: tel tež | J255: kat | T255: tel tež | X255: kat
B257: 1 pokusaj | F257: 2 pokusaj | J257: 3 pokusaj | P257: 1 pokusaj | T257: 2 pokusaj | X257: 3 pokusaj
A258: trzaj | O258: trzaj
A269: izbacaj | O269: izbacaj
B282: red br | F282: Marko Šuštum | P282: red br | T282: Kristina Farkaš
C284: U15 | Q284: U15
G286: =INDEX(Database!$B:$G,MATCH(F282,Database!$B:$B,0),MATCH(F287,Database!$B$1:$G$1,0)) -> Herkules - Bač | U286: =INDEX(Database!$B:$G,MATCH(T282,Database!$B:$B,0),MATCH(T287,Database!$B$1:$G$1,0)) -> Herkules - Bač
F287: klub | T287: klub
F290: tel tež | J290: kat | T290: tel tež | X290: kat
B292: 1 pokusaj | F292: 2 pokusaj | J292: 3 pokusaj | P292: 1 pokusaj | T292: 2 pokusaj | X292: 3 pokusaj
A293: trzaj | O293: trzaj
A304: izbacaj | O304: izbacaj
B317: red br | F317: Nikola Martinović | P317: red br | T317: David Milošević
C319: U17 | Q319: U17
G321: =INDEX(Database!$B:$G,MATCH(F317,Database!$B:$B,0),MATCH(F322,Database!$B$1:$G$1,0)) -> Radnički - Sombor | U321: =INDEX(Database!$B:$G,MATCH(T317,Database!$B:$B,0),MATCH(T322,Database!$B$1:$G$1,0)) -> Radnički - Sombor
F322: klub | T322: klub
F325: tel tež | J325: kat | T325: tel tež | X325: kat
B327: 1 pokusaj | F327: 2 pokusaj | J327: 3 pokusaj | P327: 1 pokusaj | T327: 2 pokusaj | X327: 3 pokusaj
A328: trzaj | O328: trzaj
A339: izbacaj | O339: izbacaj
B352: red br | F352: Maša Rakonca | P352: red br | T352: Strahinja Turudija
C354: U17 | Q354: U17
G356: =INDEX(Database!$B:$G,MATCH(F352,Database!$B:$B,0),MATCH(F357,Database!$B$1:$G$1,0)) -> Radnički - Sombor | U356: =INDEX(Database!$B:$G,MATCH(T352,Database!$B:$B,0),MATCH(T357,Database!$B$1:$G$1,0)) -> Radnički - Sombor
F357: klub | T357: klub
F360: tel tež | J360: kat | T360: tel tež | X360: kat
B362: 1 pokusaj | F362: 2 pokusaj | J362: 3 pokusaj | P362: 1 pokusaj | T362: 2 pokusaj | X362: 3 pokusaj
A363: trzaj | O363: trzaj
A374: izbacaj | O374: izbacaj
B387: red br | F387: Novak Kovačević | P387: red br | T387: Natalija Rudić
C389: U15 | Q389: U15
G391: =INDEX(Database!$B:$G,MATCH(F387,Database!$B:$B,0),MATCH(F392,Database!$B$1:$G$1,0)) -> Radnički - Sombor
F392: klub | T392: klub
F395: tel tež | J395: kat | T395: tel tež | X395: kat
B397: 1 pokusaj | F397: 2 pokusaj | J397: 3 pokusaj | P397: 1 pokusaj | T397: 2 pokusaj | X397: 3 pokusaj
A398: trzaj | O398: trzaj
A409: izbacaj | O409: izbacaj
B422: red br | F422: Snežana Dumanović | P422: red br
C424: U17
G426: =INDEX(Database!$B:$G,MATCH(F422,Database!$B:$B,0),MATCH(F427,Database!$B$1:$G$1,0)) -> Radnički - Sombor | U426: =U391=INDEX(Database!$B:$G,MATCH(T422,Database!$B:$B,0),MATCH(T427,Database!$B$1:$G$1,0)) -> #N/A
F427: klub | T427: klub
...

Sheet karton (2)
B2: red br | P2: red br
G6: =INDEX(Database!$B:$G,MATCH(F2,Database!$B:$B,0),MATCH(F7,Database!$B1:$G1,0)) -> #N/A | U6: =INDEX(Database!$B:$G,MATCH(T2,Database!$B:$B,0),MATCH(T7,Database!$B1:$G1,0)) -> #N/A
F7: klub | T7: klub
F10: tel tež | J10: kat | T10: tel tež | X10: kat
B12: 1 pokusaj | F12: 2 pokusaj | J12: 3 pokusaj | P12: 1 pokusaj | T12: 2 pokusaj | X12: 3 pokusaj
A13: trzaj | O13: trzaj
A24: izbacaj | O24: izbacaj
B37: red br | P37: red br
G41: =INDEX(Database!$B:$G,MATCH(F37,Database!$B:$B,0),MATCH(F42,Database!$B1:$G1,0)) -> #N/A | U41: =INDEX(Database!$B:$G,MATCH(T37,Database!$B:$B,0),MATCH(T42,Database!$B1:$G1,0)) -> #N/A
F42: klub | T42: klub
F45: tel tež | J45: kat | T45: tel tež | X45: kat
B47: 1 pokusaj | F47: 2 pokusaj | J47: 3 pokusaj | P47: 1 pokusaj | T47: 2 pokusaj | X47: 3 pokusaj
A48: trzaj | O48: trzaj
A59: izbacaj | O59: izbacaj
B72: red br | P72: red br
G76: =INDEX(Database!$B:$G,MATCH(F72,Database!$B:$B,0),MATCH(F77,Database!$B$1:$G$1,0)) -> #N/A | U76: =INDEX(Database!$B:$G,MATCH(T72,Database!$B:$B,0),MATCH(T77,Database!$B$1:$G$1,0)) -> #N/A
F77: klub | T77: klub
F80: tel tež | J80: kat | T80: tel tež | X80: kat
B82: 1 pokusaj | F82: 2 pokusaj | J82: 3 pokusaj | P82: 1 pokusaj | T82: 2 pokusaj | X82: 3 pokusaj
A83: trzaj | O83: trzaj
A94: izbacaj | O94: izbacaj
B107: red br | P107: red br
G111: =INDEX(Database!$B:$G,MATCH(F107,Database!$B:$B,0),MATCH(F112,Database!$B$1:$G$1,0)) -> #N/A | U111: =INDEX(Database!$B:$G,MATCH(T107,Database!$B:$B,0),MATCH(T112,Database!$B$1:$G$1,0)) -> #N/A
F112: klub | T112: klub
F115: tel tež | J115: kat | T115: tel tež | X115: kat
B117: 1 pokusaj | F117: 2 pokusaj | J117: 3 pokusaj | P117: 1 pokusaj | T117: 2 pokusaj | X117: 3 pokusaj
A118: trzaj | O118: trzaj
A129: izbacaj | O129: izbacaj
B142: red br | P142: red br
G146: =INDEX(Database!$B:$G,MATCH(F142,Database!$B:$B,0),MATCH(F147,Database!$B$1:$G$1,0)) -> #N/A | U146: =INDEX(Database!$B:$G,MATCH(T142,Database!$B:$B,0),MATCH(T147,Database!$B$1:$G$1,0)) -> #N/A
F147: klub | T147: klub
F150: tel tež | J150: kat | T150: tel tež | X150: kat
B152: 1 pokusaj | F152: 2 pokusaj | J152: 3 pokusaj | P152: 1 pokusaj | T152: 2 pokusaj | X152: 3 pokusaj
A153: trzaj | O153: trzaj
A164: izbacaj | O164: izbacaj
B177: red br | P177: red br
G181: =INDEX(Database!$B:$G,MATCH(F177,Database!$B:$B,0),MATCH(F182,Database!$B$1:$G$1,0)) -> #N/A | U181: =INDEX(Database!$B:$G,MATCH(T177,Database!$B:$B,0),MATCH(T182,Database!$B$1:$G$1,0)) -> #N/A
F182: klub | T182: klub
F185: tel tež | J185: kat | T185: tel tež | X185: kat
B187: 1 pokusaj | F187: 2 pokusaj | J187: 3 pokusaj | P187: 1 pokusaj | T187: 2 pokusaj | X187: 3 pokusaj
A188: trzaj | O188: trzaj
A199: izbacaj | O199: izbacaj
B212: red br | P212: red br
G216: =INDEX(Database!$B:$G,MATCH(F212,Database!$B$1:$B$162,0),MATCH(F217,Database!$B$1:$G$1,0)) -> #N/A | U216: =INDEX(Database!$B:$G,MATCH(T212,Database!$B:$B,0),MATCH(T217,Database!$B$1:$G$1,0)) -> #N/A
F217: klub | T217: klub
F220: tel tež | J220: kat | T220: tel tež | X220: kat
B222: 1 pokusaj | F222: 2 pokusaj | J222: 3 pokusaj | P222: 1 pokusaj | T222: 2 pokusaj | X222: 3 pokusaj
A223: trzaj | O223: trzaj
A234: izbacaj | O234: izbacaj
B247: red br | P247: red br
G251: =INDEX(Database!$B:$G,MATCH(F247,Database!$B:$B,0),MATCH(F252,Database!$B$1:$G$1,0)) -> #N/A | U251: =INDEX(Database!$B:$G,MATCH(T247,Database!$B:$B,0),MATCH(T252,Database!$B$1:$G$1,0)) -> #N/A
F252: klub | T252: klub
F255: tel tež | J255: kat | T255: tel tež | X255: kat
B257: 1 pokusaj | F257: 2 pokusaj | J257: 3 pokusaj | P257: 1 pokusaj | T257: 2 pokusaj | X257: 3 pokusaj
A258: trzaj | O258: trzaj
A269: izbacaj | O269: izbacaj
B282: red br | P282: red br
G286: =INDEX(Database!$B:$G,MATCH(F282,Database!$B:$B,0),MATCH(F287,Database!$B$1:$G$1,0)) -> #N/A | U286: =INDEX(Database!$B:$G,MATCH(T282,Database!$B:$B,0),MATCH(T287,Database!$B$1:$G$1,0)) -> #N/A
F287: klub | T287: klub
F290: tel tež | J290: kat | T290: tel tež | X290: kat
B292: 1 pokusaj | F292: 2 pokusaj | J292: 3 pokusaj | P292: 1 pokusaj | T292: 2 pokusaj | X292: 3 pokusaj
A293: trzaj | O293: trzaj
A304: izbacaj | O304: izbacaj
B317: red br | P317: red br
G321: =INDEX(Database!$B:$G,MATCH(F317,Database!$B:$B,0),MATCH(F322,Database!$B$1:$G$1,0)) -> #N/A | U321: =INDEX(Database!$B:$G,MATCH(T317,Database!$B:$B,0),MATCH(T322,Database!$B$1:$G$1,0)) -> #N/A
F322: klub | T322: klub
F325: tel tež | J325: kat | T325: tel tež | X325: kat
B327: 1 pokusaj | F327: 2 pokusaj | J327: 3 pokusaj | P327: 1 pokusaj | T327: 2 pokusaj | X327: 3 pokusaj
A328: trzaj | O328: trzaj
A339: izbacaj | O339: izbacaj
B352: red br | P352: red br
G356: =INDEX(Database!$B:$G,MATCH(F352,Database!$B:$B,0),MATCH(F357,Database!$B$1:$G$1,0)) -> #N/A | U356: =INDEX(Database!$B:$G,MATCH(T352,Database!$B:$B,0),MATCH(T357,Database!$B$1:$G$1,0)) -> #N/A
F357: klub | T357: klub
F360: tel tež | J360: kat | T360: tel tež | X360: kat
B362: 1 pokusaj | F362: 2 pokusaj | J362: 3 pokusaj | P362: 1 pokusaj | T362: 2 pokusaj | X362: 3 pokusaj
A363: trzaj | O363: trzaj
A374: izbacaj | O374: izbacaj
B387: red br | P387: red br
G391: =INDEX(Database!$B:$G,MATCH(F387,Database!$B:$B,0),MATCH(F392,Database!$B$1:$G$1,0)) -> #N/A | U391: =INDEX(Database!$B:$G,MATCH(T387,Database!$B:$B,0),MATCH(T392,Database!$B$1:$G$1,0)) -> #N/A
F392: klub | T392: klub
F395: tel tež | J395: kat | T395: tel tež | X395: kat
B397: 1 pokusaj | F397: 2 pokusaj | J397: 3 pokusaj | P397: 1 pokusaj | T397: 2 pokusaj | X397: 3 pokusaj
A398: trzaj | O398: trzaj
A409: izbacaj | O409: izbacaj
B422: red br | P422: red br
G426: =INDEX(Database!$B:$G,MATCH(F422,Database!$B:$B,0),MATCH(F427,Database!$B$1:$G$1,0)) -> #N/A | U426: =INDEX(Database!$B:$G,MATCH(T422,Database!$B:$B,0),MATCH(T427,Database!$B$1:$G$1,0)) -> #N/A
F427: klub | T427: klub
F430: tel tež | J430: kat | T430: tel tež | X430: kat
B432: 1 pokusaj | F432: 2 pokusaj | J432: 3 pokusaj | P432: 1 pokusaj | T432: 2 pokusaj | X432: 3 pokusaj
A433: trzaj | O433: trzaj
A444: izbacaj | O444: izbacaj
B457: red br | P457: red br
G461: =INDEX(Database!$B:$G,MATCH(F457,Database!$B:$B,0),MATCH(F462,Database!$B$1:$G$1,0)) -> #N/A | U461: =INDEX(Database!$B:$G,MATCH(T457,Database!$B:$B,0),MATCH(T462,Database!$B$1:$G$1,0)) -> #N/A
F462: klub | T462: klub
F465: tel tež | J465: kat | T465: tel tež | X465: kat
B467: 1 pokusaj | F467: 2 pokusaj | J467: 3 pokusaj | P467: 1 pokusaj | T467: 2 pokusaj | X467: 3 pokusaj
A468: trzaj | O468: trzaj
A479: izbacaj | O479: izbacaj
B492: red br | P492: red br
G496: =INDEX(Database!$B:$G,MATCH(F492,Database!$B:$B,0),MATCH(F497,Database!$B$1:$G$1,0)) -> #N/A | U496: =INDEX(Database!$B:$G,MATCH(T492,Database!$B:$B,0),MATCH(T497,Database!$B$1:$G$1,0)) -> #N/A
...
