Workbook
Name pic_SDTV: Database!$O$8
Name pic_SSDT: Database!$O$7
Name SDTV: Database!$O$8
Name ShowImage: INDIRECT("pic_" &Database!$O$7)
Name SSDT: Database!$O$7

Sheet Database
A1: Broj | B1: Ime i prezime | C1: Pol | D1: dan | E1: mes | F1: god | G1: Klub | H1: Tel. Tež
B4: Marija Martinović | C4: Ž | D4: 14 | E4: 05 | F4: 12 | G4: 8. Mart - Irig
B5: Neda Savić | C5: Ž | D5: 16 | E5: 08 | F5: 13 | G5: 8. Mart - Irig
B6: Dunja Milić | C6: Ž | D6: 17 | E6: 09 | F6: 12 | G6: 8. Mart - Irig
B7: Ivana Lončar | C7: Ž | D7: 26 | E7: 03 | F7: 05 | G7: 8. Mart - Irig
B8: Isidora Kranjc | C8: Ž | D8: 12 | E8: 06 | F8: 13 | G8: 8. Mart - Irig
B9: Ena Barać | C9: Ž | D9: 12 | E9: 02 | F9: 09 | G9: 8. Mart - Irig
B10: Jovana Trivić | C10: Ž | D10: 12 | E10: 02 | F10: 09 | G10: 8. Mart - Irig
B11: Lenka Bursać | C11: Ž | D11: 06 | E11: 05 | F11: 09 | G11: 8. Mart - Irig
B12: Vanja Ristić | C12: Ž | D12: 10 | E12: 01 | F12: 06 | G12: 8. Mart - Irig
B13: Una Kranjc | C13: Ž | D13: 30 | E13: 01 | F13: 09 | G13: 8. Mart - Irig
B14: Đorđe Ilić | C14: M | G14: 8. Mart - Irig
B15: Miloš Vojnović | C15: M | D15: 22 | E15: 02 | F15: 12 | G15: 8. Mart - Irig
B16: Andjelija Utvić | C16: Ž | D16: 08 | E16: 11 | F16: 17 | G16: 8. Mart - Irig
B17: Milana Jerković | C17: Ž | D17: 18 | E17: 02 | F17: 16 | G17: 8. Mart - Irig
B18: Lena Kranjc | C18: Ž | D18: 12 | E18: 01 | F18: 15 | G18: 8. Mart - Irig
B19: Sara Radonić | C19: Ž | D19: 20 | E19: 02 | F19: 15 | G19: 8. Mart - Irig
B20: Magdalena Utvić | C20: Ž | D20: 17 | E20: 11 | F20: 13 | G20: 8. Mart - Irig
B21: Sofija Lovrić | C21: Ž | D21: 06 | E21: 06 | F21: 13 | G21: 8. Mart - Irig
B22: Nikolija Filipović | C22: Ž | D22: 11 | E22: 06 | F22: 13 | G22: 8. Mart - Irig
B23: Milica Milić | C23: Ž | F23: 15 | G23: 8. Mart - Irig
B24: Nevena Stanišić | C24: Ž | F24: 14 | G24: 8. Mart - Irig
B25: Nađa Stanišić | C25: Ž | F25: 12 | G25: 8. Mart - Irig
B26: Vanja Vladisavljev | C26: Ž | F26: 12 | G26: 8. Mart - Irig
B27: Andrea Žegarac | C27: Ž | D27: 18 | E27: 11 | F27: 15 | G27: 8. Mart - Irig
B28: Tamara Todorić | C28: Ž | D28: 21 | E28: 07 | F28: 15 | G28: 8. Mart - Irig
B29: Mia Ivanišević | C29: Ž | D29: 03 | E29: 12 | F29: 12 | G29: 8. Mart - Irig
B32: Monika Zemko | C32: Ž | D32: 12 | E32: 08 | F32: 09 | G32: Spartak - Subotica
B33: Mila Đorović | C33: Ž | D33: 21 | E33: 10 | F33: 11 | G33: Spartak - Subotica
B34: Ines Hadžibegović | C34: Ž | D34: 28 | E34: 08 | F34: 02 | G34: Spartak - Subotica
B35: Tamas Kajdoči | C35: M | D35: 21 | E35: 04 | F35: 97 | G35: Spartak - Subotica
B36: Aleksandar Saulić | C36: M | D36: 08 | E36: 01 | F36: 02 | G36: Spartak - Subotica
B37: Balaž Benčik Maša | C37: M | D37: 26 | E37: 03 | F37: 05 | G37: Spartak - Subotica
B38: Viktor Haško | C38: M | D38: 05 | E38: 07 | F38: 01 | G38: Spartak - Subotica
B39: Ivan Erdeg | C39: M | D39: 07 | E39: 03 | F39: 08 | G39: Spartak - Subotica
B40: Marin Vukov | C40: M | D40: 23 | E40: 09 | F40: 04 | G40: Spartak - Subotica
... B68: Sara Perič | C68: Ž | D68: 18 | E68: 11 | F68: 07 | G68: Spartak - Subotica
B69: Elizabeta Kiš | C69: Ž | G69: Spartak - Subotica
B70: Mihalj Pece | C70: M | D70: 18 | E70: 06 | F70: 87 | G70: Spartak - Subotica
B71: Krištof Šebok | C71: M | G71: Spartak - Subotica
...

Sheet Ž
C1: ZAPISNIK TAKMIČENJA
C2: POJEDINAČNO PRVENSTVO VOJVODINE
C3: ZA TAKMIČARKE DO 15 GODINA | Q3: 21.02.2026
B4: Ime i prezime | C4: Pol | D4: dan | E4: mes | F4: god | G4: Klub | H4: Tel. Tež | I4: T r z a j | L4: R | M4: I z b a č a j | P4: R | Q4: OB | R4: Vrednost rezultata | S4: Plas
I5: 1 | J5: 2 | K5: 3 | M5: 1 | N5: 2 | O5: 3
A6: 40
A7: 44
A8: 1 | B8: Melania Farago | C8: =INDEX(Database!$B:$G,MATCH($B8,Database!B:B,0),MATCH(C4,Database!$B$1:$G$1,0)) -> Ž | D8: =INDEX(Database!$B:$G,MATCH($B8,Database!B:B,0),MATCH(D4,Database!$B$1:$G$1,0)) -> 16 | E8: =INDEX(Database!$B:$G,MATCH($B8,Database!B:B,0),MATCH(E4,Database!$B$1:$G$1,0)) -> 01 | F8: =INDEX(Database!$B:$G,MATCH($B8,Database!B:B,0),MATCH(F4,Database!$B$1:$G$1,0)) -> 12 | G8: =INDEX(Database!$B:$G,MATCH($B8,Database!$B:$B,0),MATCH(G4,Database!$B$1:$G$1,0)) -> Spartak - Subotica | H8: 40.9 | I8: 12 | J8: 14 | K8: 16 | L8: 16 | M8: 17 | N8: 17 | O8: 19 | P8: 19 | Q8: =L8+P8 -> 35 | R8: =IF(H8="","",Q8*10^((0.787004341)*LOG10(H8/153.757)^2)) -> 63.734174 | S8: 1
A9: 48
A10: 1 | B10: Vivien Milanković | C10: =INDEX(Database!$B:$G,MATCH($B10,Database!B:B,0),MATCH($C$4,Database!$B$1:$G$1,0)) -> Ž | D10: =INDEX(Database!$B:$G,MATCH($B10,Database!B:B,0),MATCH($D$4,Database!$B$1:$G$1,0)) -> 01 | E10: =INDEX(Database!$B:$G,MATCH($B10,Database!B:B,0),MATCH($E$4,Database!$B$1:$G$1,0)) -> 08 | F10: =INDEX(Database!$B:$G,MATCH($B10,Database!B:B,0),MATCH($F$4,Database!$B$1:$G$1,0)) -> 11 | G10: =INDEX(Database!$B:$G,MATCH($B10,Database!B:B,0),MATCH($G$4,Database!$B$1:$G$1,0)) -> Spartak - Subotica | H10: 49.8 | I10: 17 | J10: 20 | K10: 22 | L10: 20 | M10: 20 | N10: 23 | O10: 25 | P10: 25 | Q10: =L10+P10 -> 45 | R10: =IF(H10="","",Q10*10^((0.787004341)*LOG10(H10/153.757)^2)) -> 69.481335 | S10: 2
A11: 2 | B11: Natalija Rudić | C11: =INDEX(Database!$B:$G,MATCH($B11,Database!B:B,0),MATCH($C$4,Database!$B$1:$G$1,0)) -> Ž | D11: =INDEX(Database!$B:$G,MATCH($B11,Database!B:B,0),MATCH($D$4,Database!$B$1:$G$1,0)) -> 14 | E11: =INDEX(Database!$B:$G,MATCH($B11,Database!B:B,0),MATCH($E$4,Database!$B$1:$G$1,0)) -> 06 | F11: =INDEX(Database!$B:$G,MATCH($B11,Database!B:B,0),MATCH($F$4,Database!$B$1:$G$1,0)) -> 11 | G11: =INDEX(Database!$B:$G,MATCH($B11,Database!B:B,0),MATCH($G$4,Database!$B$1:$G$1,0)) -> Radnički - Sombor | H11: 47 | I11: 22 | J11: 25 | K11: 27 | L11: 25 | M11: 30 | N11: 33 | O11: 33 | P11: 33 | Q11: =L11+P11 -> 58 | R11: =IF(H11="","",Q11*10^((0.787004341)*LOG10(H11/153.757)^2)) -> 93.745 | S11: 1
A12: 53
A13: 1 | B13: Kristina Farkaš | C13: =INDEX(Database!$B:$G,MATCH($B13,Database!B:B,0),MATCH($C$4,Database!$B$1:$G$1,0)) -> Ž | D13: =INDEX(Database!$B:$G,MATCH($B13,Database!B:B,0),MATCH($D$4,Database!$B$1:$G$1,0)) -> 27 | E13: =INDEX(Database!$B:$G,MATCH($B13,Database!B:B,0),MATCH($E$4,Database!$B$1:$G$1,0)) -> 1 | F13: =INDEX(Database!$B:$G,MATCH($B13,Database!B:B,0),MATCH($F$4,Database!$B$1:$G$1,0)) -> 11 | G13: =INDEX(Database!$B:$G,MATCH($B13,Database!B:B,0),MATCH($G$4,Database!$B$1:$G$1,0)) -> Herkules - Bač | H13: 49.1 | I13: 23 | J13: 25 | K13: 25 | L13: 23 | M13: 25 | N13: 30 | O13: 30 | P13: 25 | Q13: =L13+P13 -> 48 | R13: =IF(H13="","",Q13*10^((0.787004341)*LOG10(H13/153.757)^2)) -> 74.9315 | S13: 1
A14: 58
A15: 1 | B15: Mila Đorović | C15: =INDEX(Database!$B:$G,MATCH($B15,Database!B:B,0),MATCH($C$4,Database!$B$1:$G$1,0)) -> Ž | D15: =INDEX(Database!$B:$G,MATCH($B15,Database!B:B,0),MATCH($D$4,Database!$B$1:$G$1,0)) -> 21 | E15: =INDEX(Database!$B:$G,MATCH($B15,Database!B:B,0),MATCH($E$4,Database!$B$1:$G$1,0)) -> 10 | F15: =INDEX(Database!$B:$G,MATCH($B15,Database!B:B,0),MATCH($F$4,Database!$B$1:$G$1,0)) -> 11 | G15: =INDEX(Database!$B:$G,MATCH($B15,Database!B:B,0),MATCH($G$4,Database!$B$1:$G$1,0)) -> Spartak - Subotica | H15: 55 | I15: X | J15: X | K15: X | L15: 0 | M15: X | N15: X | O15: X | P15: 0 | Q15: =L15+P15 -> 0 | R15: =IF(H15="","",Q15*10^((0.787004341)*LOG10(H15/153.757)^2)) -> 0
A16: 63
A17: 69
A18: 77
A19: +77
B20: Delegat saveza: | C20: Rita Špajzer | I20: Sudije: | K20: 1 | L20: Rita Špajzer
B21: Sekretari takmičenja: | C21: Tivadar Kajdoči | K21: 2 | L21: Siniša Tanasković
C22: Radmila Zagorac | K22: 3 | L22: Stevan Vladisavljev
G23: Bač, 21.02.2026 | H23: mesto, datum
C24: ZAPISNIK TAKMIČENJA
C25: POJEDINAČNO PRVENSTVO VOJVODINE
C26: ZA TAKMIČARKE DO 17 GODINA | Q26: 21.02.2026
B27: Ime i prezime | C27: Pol | D27: dan | E27: mes | F27: god | G27: Klub | H27: Tel. Tež | I27: T r z a j | L27: R | M27: I z b a č a j | P27: R | Q27: OB | R27: Vrednost rezultata | S27: Plas
I28: 1 | J28: 2 | K28: 3 | M28: 1 | N28: 2 | O28: 3
A29: 44
A30: 48
A31: 53
A32: 1 | B32: Maša Rakonca | C32: =INDEX(Database!$B:$G,MATCH($B32,Database!B:B,0),MATCH($C$4,Database!$B$1:$G$1,0)) -> Ž | D32: =INDEX(Database!$B:$G,MATCH($B32,Database!B:B,0),MATCH($D$4,Database!$B$1:$G$1,0)) -> 03 | E32: =INDEX(Database!$B:$G,MATCH($B32,Database!B:B,0),MATCH($E$4,Database!$B$1:$G$1,0)) -> 05 | F32: =INDEX(Database!$B:$G,MATCH($B32,Database!B:B,0),MATCH($F$4,Database!$B$1:$G$1,0)) -> 10 | G32: =INDEX(Database!$B:$G,MATCH($B32,Database!B:B,0),MATCH($G$4,Database!$B$1:$G$1,0)) -> Radnički - Sombor | H32: 53 | I32: 32 | J32: 35 | K32: X | L32: 35 | M32: 42 | N32: 42 | O32: 45 | P32: 45 | Q32: =L32+P32 -> 80 | R32: =IF(H32="","",Q32*10^((0.787004341)*LOG10(H32/153.757)^2)) -> 117.89031 | S32: 1
A33: 58
A34: 1 | B34: Marija Vajagić | C34: =INDEX(Database!$B:$G,MATCH($B34,Database!B:B,0),MATCH($C$4,Database!$B$1:$G$1,0)) -> Ž | D34: =INDEX(Database!$B:$G,MATCH($B34,Database!B:B,0),MATCH($D$4,Database!$B$1:$G$1,0)) -> 10 | E34: =INDEX(Database!$B:$G,MATCH($B34,Database!B:B,0),MATCH($E$4,Database!$B$1:$G$1,0)) -> 05 | F34: =INDEX(Database!$B:$G,MATCH($B34,Database!B:B,0),MATCH($F$4,Database!$B$1:$G$1,0)) -> 09 | G34: =INDEX(Database!$B:$G,MATCH($B34,Database!B:B,0),MATCH($G$4,Database!$B$1:$G$1,0)) -> Železničar - Inđija | H34: 55.7 | I34: 48 | J34: 50 | K34: 50 | L34: 50 | M34: 55 | N34: 58 | O34: X | P34: 55 | Q34: =L34+P34 -> 105 | R34: =IF(H34="","",Q34*10^((0.787004341)*LOG10(H34/153.757)^2)) -> 149.35941 | S34: 1
A35: 2 | B35: Sara Klarić | C35: =INDEX(Database!$B:$G,MATCH($B35,Database!B:B,0),MATCH($C$4,Database!$B$1:$G$1,0)) -> Ž | D35: =INDEX(Database!$B:$G,MATCH($B35,Database!B:B,0),MATCH($D$4,Database!$B$1:$G$1,0)) -> 10 | E35: =INDEX(Database!$B:$G,MATCH($B35,Database!B:B,0),MATCH($E$4,Database!$B$1:$G$1,0)) -> 11 | F35: =INDEX(Database!$B:$G,MATCH($B35,Database!B:B,0),MATCH($F$4,Database!$B$1:$G$1,0)) -> 12 | G35: =INDEX(Database!$B:$G,MATCH($B35,Database!B:B,0),MATCH($G$4,Database!$B$1:$G$1,0)) -> Železničar - Inđija | H35: 53.5 | I35: 28 | J35: 31 | K35: 31 | L35: 28 | M35: 38 | N35: 41 | O35: X | P35: 38 | Q35: =L35+P35 -> 66 | R35: =IF(H35="","",Q35*10^((0.787004341)*LOG10(H35/153.757)^2)) -> 96.599778 | S35: 2
A36: 63
A37: 1 | B37: Bojana Zoraja | C37: =INDEX(Database!$B:$G,MATCH($B37,Database!B:B,0),MATCH($C$4,Database!$B$1:$G$1,0)) -> Ž | D37: =INDEX(Database!$B:$G,MATCH($B37,Database!B:B,0),MATCH($D$4,Database!$B$1:$G$1,0)) -> 29 | E37: =INDEX(Database!$B:$G,MATCH($B37,Database!B:B,0),MATCH($E$4,Database!$B$1:$G$1,0)) -> 04 | F37: =INDEX(Database!$B:$G,MATCH($B37,Database!B:B,0),MATCH($F$4,Database!$B$1:$G$1,0)) -> 09 | G37: =INDEX(Database!$B:$G,MATCH($B37,Database!B:B,0),MATCH($G$4,Database!$B$1:$G$1,0)) -> Železničar - Inđija | H37: 59 | I37: 48 | J37: 51 | K37: 53 | L37: 53 | M37: 58 | N37: 61 | O37: 61 | P37: 58 | Q37: =L37+P37 -> 111 | R37: =IF(H37="","",Q37*10^((0.787004341)*LOG10(H37/153.757)^2)) -> 151.88245 | S37: 1
A38: 69
A39: 77
A40: +77
...

Sheet M
C1: ZAPISNIK TAKMIČENJA
C2: POJEDINAČNO PRVENSTVO VOJVODINE
C3: ZA TAKMIČARE DO 15 GOD. | Q3: 21.02.2026.
B4: Ime i prezime | C4: Pol | D4: dan | E4: mes | F4: god | G4: Klub | H4: Tel. Tež | I4: T r z a j | L4: R | M4: I z b a č a j | P4: R | Q4: OB | R4: Vrednost rezultata | S4: Plas
I5: 1 | J5: 2 | K5: 3 | M5: 1 | N5: 2 | O5: 3
A6: 52
A7: 1 | B7: Igor Stefanović | C7: =INDEX(Database!$B:$G,MATCH($B7,Database!B:B,0),MATCH($C$4,Database!$B$1:$G$1,0)) -> M | D7: =INDEX(Database!$B:$G,MATCH($B7,Database!$B:$B,0),MATCH($D$4,Database!$B$1:$G$1,0)) -> 27 | E7: =INDEX(Database!$B:$G,MATCH($B7,Database!$B:$B,0),MATCH($E$4,Database!$B$1:$G$1,0)) -> 08 | F7: =INDEX(Database!$B:$G,MATCH($B7,Database!$B:$B,0),MATCH($F$4,Database!$B$1:$G$1,0)) -> 13 | G7: =INDEX(Database!$B:$G,MATCH($B7,Database!$B:$B,0),MATCH($G$4,Database!$B$1:$G$1,0)) -> Herkules - Bač | H7: 37.6 | I7: 13 | J7: 15 | K7: 17 | L7: 17 | M7: 15 | N7: 20 | O7: 22 | P7: 20 | Q7: =L7+P7 -> 37 | R7: =IF(H7="","",Q7*10^((0.722762521)*LOG10(H7/193.609)^2)) -> 85.967032 | S7: 3
A8: 2 | B8: Miloš Hajek | C8: =INDEX(Database!$B:$G,MATCH($B8,Database!B:B,0),MATCH($C$4,Database!$B$1:$G$1,0)) -> M | D8: =INDEX(Database!$B:$G,MATCH($B8,Database!$B:$B,0),MATCH($D$4,Database!$B$1:$G$1,0)) -> 03 | E8: =INDEX(Database!$B:$G,MATCH($B8,Database!$B:$B,0),MATCH($E$4,Database!$B$1:$G$1,0)) -> 12 | F8: =INDEX(Database!$B:$G,MATCH($B8,Database!$B:$B,0),MATCH($F$4,Database!$B$1:$G$1,0)) -> 15 | G8: =INDEX(Database!$B:$G,MATCH($B8,Database!$B:$B,0),MATCH($G$4,Database!$B$1:$G$1,0)) -> Herkules - Bač | H8: 24.5 | I8: 13 | J8: 14 | K8: 15 | L8: 15 | M8: 15 | N8: 18 | O8: 20 | P8: 20 | Q8: =L8+P8 -> 35 | R8: =IF(H8="","",Q8*10^((0.722762521)*LOG10(H8/193.609)^2)) -> 133.84262 | S8: 2
A9: 3 | B9: Bojan Nikolić | C9: =INDEX(Database!$B:$G,MATCH($B9,Database!B:B,0),MATCH($C$4,Database!$B$1:$G$1,0)) -> M | D9: =INDEX(Database!$B:$G,MATCH($B9,Database!$B:$B,0),MATCH($D$4,Database!$B$1:$G$1,0)) -> 07 | E9: =INDEX(Database!$B:$G,MATCH($B9,Database!$B:$B,0),MATCH($E$4,Database!$B$1:$G$1,0)) -> 09 | F9: =INDEX(Database!$B:$G,MATCH($B9,Database!$B:$B,0),MATCH($F$4,Database!$B$1:$G$1,0)) -> 16 | G9: =INDEX(Database!$B:$G,MATCH($B9,Database!$B:$B,0),MATCH($G$4,Database!$B$1:$G$1,0)) -> Herkules - Bač | H9: 40.1 | I9: 12 | J9: 13 | K9: 15 | L9: 13 | M9: 15 | N9: 18 | O9: 20 | P9: 20 | Q9: =L9+P9 -> 33 | R9: =IF(H9="","",Q9*10^((0.722762521)*LOG10(H9/193.609)^2)) -> 71.853246
A10: 4 | B10: Luka Hajek | C10: =INDEX(Database!$B:$G,MATCH($B10,Database!B:B,0),MATCH($C$4,Database!$B$1:$G$1,0)) -> M | D10: =INDEX(Database!$B:$G,MATCH($B10,Database!$B:$B,0),MATCH($D$4,Database!$B$1:$G$1,0)) -> 25 | E10: =INDEX(Database!$B:$G,MATCH($B10,Database!$B:$B,0),MATCH($E$4,Database!$B$1:$G$1,0)) -> 11 | F10: =INDEX(Database!$B:$G,MATCH($B10,Database!$B:$B,0),MATCH($F$4,Database!$B$1:$G$1,0)) -> 11 | G10: =INDEX(Database!$B:$G,MATCH($B10,Database!$B:$B,0),MATCH($G$4,Database!$B$1:$G$1,0)) -> Herkules - Bač | H10: 50.3 | I10: 45 | J10: 48 | K10: 52 | L10: 52 | M10: 60 | N10: 65 | O10: 70 | P10: 70 | Q10: =L10+P10 -> 122 | R10: =IF(H10="","",Q10*10^((0.722762521)*LOG10(H10/193.609)^2)) -> 215.77925 | S10: 1
A11: 56
A12: 60
A13: 1 | B13: Herold Hauk | C13: =INDEX(Database!$B:$G,MATCH($B13,Database!B:B,0),MATCH($C$4,Database!$B$1:$G$1,0)) -> M | D13: =INDEX(Database!$B:$G,MATCH($B13,Database!$B:$B,0),MATCH($D$4,Database!$B$1:$G$1,0)) -> 01 | E13: =INDEX(Database!$B:$G,MATCH($B13,Database!$B:$B,0),MATCH($E$4,Database!$B$1:$G$1,0)) -> 03 | F13: =INDEX(Database!$B:$G,MATCH($B13,Database!$B:$B,0),MATCH($F$4,Database!$B$1:$G$1,0)) -> 11 | G13: =INDEX(Database!$B:$G,MATCH($B13,Database!$B:$B,0),MATCH($G$4,Database!$B$1:$G$1,0)) -> Spartak - Subotica | H13: 57.6 | I13: 60 | J13: 65 | K13: 70 | L13: 65 | M13: 75 | N13: 80 | O13: 85 | P13: 80 | Q13: =L13+P13 -> 145 | R13: =IF(H13="","",Q13*10^((0.722762521)*LOG10(H13/193.609)^2)) -> 229.99676 | S13: 1
A14: 2 | B14: Marko Šuštum | C14: =INDEX(Database!$B:$G,MATCH($B14,Database!B:B,0),MATCH($C$4,Database!$B$1:$G$1,0)) -> M | D14: =INDEX(Database!$B:$G,MATCH($B14,Database!$B:$B,0),MATCH($D$4,Database!$B$1:$G$1,0)) -> 26 | E14: =INDEX(Database!$B:$G,MATCH($B14,Database!$B:$B,0),MATCH($E$4,Database!$B$1:$G$1,0)) -> 01 | F14: =INDEX(Database!$B:$G,MATCH($B14,Database!$B:$B,0),MATCH($F$4,Database!$B$1:$G$1,0)) -> 13 | G14: =INDEX(Database!$B:$G,MATCH($B14,Database!$B:$B,0),MATCH($G$4,Database!$B$1:$G$1,0)) -> Herkules - Bač | H14: 59.2 | I14: 35 | J14: 40 | K14: 45 | L14: 40 | M14: 50 | N14: 55 | O14: 57 | P14: 55 | Q14: =L14+P14 -> 95 | R14: =IF(H14="","",Q14*10^((0.722762521)*LOG10(H14/193.609)^2)) -> 147.61262 | S14: 2
A15: 65
A16: 1 | B16: Novak Kovačević | C16: =INDEX(Database!$B:$G,MATCH($B16,Database!B:B,0),MATCH($C$4,Database!$B$1:$G$1,0)) -> M | D16: =INDEX(Database!$B:$G,MATCH($B16,Database!$B:$B,0),MATCH($D$4,Database!$B$1:$G$1,0)) -> 30 | E16: =INDEX(Database!$B:$G,MATCH($B16,Database!$B:$B,0),MATCH($E$4,Database!$B$1:$G$1,0)) -> 03 | F16: =INDEX(Database!$B:$G,MATCH($B16,Database!$B:$B,0),MATCH($F$4,Database!$B$1:$G$1,0)) -> 11 | G16: =INDEX(Database!$B:$G,MATCH($B16,Database!$B:$B,0),MATCH($G$4,Database!$B$1:$G$1,0)) -> Radnički - Sombor | H16: 64.7 | I16: 32 | J16: 35 | K16: 38 | L16: 35 | M16: 50 | N16: 55 | O16: 60 | P16: 55 | Q16: =L16+P16 -> 90 | R16: =IF(H16="","",Q16*10^((0.722762521)*LOG10(H16/193.609)^2)) -> 131.22536 | S16: 1
A17: 71
A18: 1 | B18: Aron Mačai | C18: =INDEX(Database!$B:$G,MATCH($B18,Database!B:B,0),MATCH($C$4,Database!$B$1:$G$1,0)) -> M | D18: =INDEX(Database!$B:$G,MATCH($B18,Database!$B:$B,0),MATCH($D$4,Database!$B$1:$G$1,0)) -> 06 | E18: =INDEX(Database!$B:$G,MATCH($B18,Database!$B:$B,0),MATCH($E$4,Database!$B$1:$G$1,0)) -> 10 | F18: =INDEX(Database!$B:$G,MATCH($B18,Database!$B:$B,0),MATCH($F$4,Database!$B$1:$G$1,0)) -> 11 | G18: =INDEX(Database!$B:$G,MATCH($B18,Database!$B:$B,0),MATCH($G$4,Database!$B$1:$G$1,0)) -> Spartak - Subotica | H18: 68.8 | I18: 37 | J18: 42 | K18: 42 | L18: 42 | M18: 50 | N18: 55 | O18: 55 | P18: 50 | Q18: =L18+P18 -> 92 | R18: =IF(H18="","",Q18*10^((0.722762521)*LOG10(H18/193.609)^2)) -> 128.74084 | S18: 1
A19: 79
A20: 88
A21: +88
A22: 1 | B22: Mate Kovač | C22: =INDEX(Database!$B:$G,MATCH($B22,Database!B:B,0),MATCH($C$4,Database!$B$1:$G$1,0)) -> M | D22: =INDEX(Database!$B:$G,MATCH($B22,Database!$B:$B,0),MATCH($D$4,Database!$B$1:$G$1,0)) -> 30 | E22: =INDEX(Database!$B:$G,MATCH($B22,Database!$B:$B,0),MATCH($E$4,Database!$B$1:$G$1,0)) -> 10 | F22: =INDEX(Database!$B:$G,MATCH($B22,Database!$B:$B,0),MATCH($F$4,Database!$B$1:$G$1,0)) -> 12 | G22: =INDEX(Database!$B:$G,MATCH($B22,Database!$B:$B,0),MATCH($G$4,Database!$B$1:$G$1,0)) -> Spartak - Subotica | H22: 99.3 | I22: 25 | J22: 30 | K22: 33 | L22: 30 | M22: 35 | N22: 40 | O22: 45 | P22: 45 | Q22: =L22+P22 -> 75 | R22: =IF(H22="","",Q22*10^((0.722762521)*LOG10(H22/193.609)^2)) -> 86.265204 | S22: 1
B23: Delegat saveza: | C23: Rita Špajzer | I23: Sudije: | K23: 1 | L23: Rita Špajzer
B24: Sekretari takmičenja: | C24: Tivadar Kajdoči | K24: 2 | L24: Siniša Tanasković
C25: Radmila Zagorac | K25: 3 | L25: Stevan Vladisavljev
G26: Bač, 21.02.2026 | H26: mesto, datum
C27: ZAPISNIK TAKMIČENJA
C28: POJEDINAČNO PRVENSTVO VOJVODINE
C29: ZA TAKMIČARE DO 17 GOD | Q29: 21.02.2026.
B30: Ime i prezime | C30: Pol | D30: dan | E30: mes | F30: god | G30: Klub | H30: Tel. Tež | I30: T r z a j | L30: R | M30: I z b a č a j | P30: R | Q30: OB | R30: Vrednost rezultata | S30: Plas
I31: 1 | J31: 2 | K31: 3 | M31: 1 | N31: 2 | O31: 3
A32: 56
A33: 60
A34: 65
A35: 1 | B35: Nikola Martinović | C35: =INDEX(Database!$B:$G,MATCH($B35,Database!B:B,0),MATCH($C$4,Database!$B$1:$G$1,0)) -> M | D35: =INDEX(Database!$B:$G,MATCH($B35,Database!$B:$B,0),MATCH($D$4,Database!$B$1:$G$1,0)) -> 21 | E35: =INDEX(Database!$B:$G,MATCH($B35,Database!$B:$B,0),MATCH($E$4,Database!$B$1:$G$1,0)) -> 02 | F35: =INDEX(Database!$B:$G,MATCH($B35,Database!$B:$B,0),MATCH($F$4,Database!$B$1:$G$1,0)) -> 10 | G35: =INDEX(Database!$B:$G,MATCH($B35,Database!$B:$B,0),MATCH($G$4,Database!$B$1:$G$1,0)) -> Radnički - Sombor | H35: 64.2 | I35: 70 | J35: 75 | K35: 78 | L35: 78 | M35: 90 | N35: 95 | O35: 98 | P35: 95 | Q35: =L35+P35 -> 173 | R35: =IF(H35="","",Q35*10^((0.722762521)*LOG10(H35/193.609)^2)) -> 253.59925 | S35: 1
A36: 71
A37: 1 | B37: Ričard Nemet | C37: =INDEX(Database!$B:$G,MATCH($B37,Database!B:B,0),MATCH($C$4,Database!$B$1:$G$1,0)) -> M | D37: =INDEX(Database!$B:$G,MATCH($B37,Database!$B:$B,0),MATCH($D$4,Database!$B$1:$G$1,0)) -> 14 | E37: =INDEX(Database!$B:$G,MATCH($B37,Database!$B:$B,0),MATCH($E$4,Database!$B$1:$G$1,0)) -> 02 | F37: =INDEX(Database!$B:$G,MATCH($B37,Database!$B:$B,0),MATCH($F$4,Database!$B$1:$G$1,0)) -> 09 | G37: =INDEX(Database!$B:$G,MATCH($B37,Database!$B:$B,0),MATCH($G$4,Database!$B$1:$G$1,0)) -> Spartak - Subotica | H37: 69.7 | I37: 85 | J37: 90 | K37: 90 | L37: 90 | M37: 105 | N37: 107 | O37: 110 | P37: 110 | Q37: =L37+P37 -> 200 | R37: =IF(H37="","",Q37*10^((0.722762521)*LOG10(H37/193.609)^2)) -> 277.53348 | S37: 1
A38: 2 | B38: David Milošević | C38: =INDEX(Database!$B:$G,MATCH($B38,Database!B:B,0),MATCH($C$4,Database!$B$1:$G$1,0)) -> M | D38: =INDEX(Database!$B:$G,MATCH($B38,Database!$B:$B,0),MATCH($D$4,Database!$B$1:$G$1,0)) -> 04 | E38: =INDEX(Database!$B:$G,MATCH($B38,Database!$B:$B,0),MATCH($E$4,Database!$B$1:$G$1,0)) -> 04 | F38: =INDEX(Database!$B:$G,MATCH($B38,Database!$B:$B,0),MATCH($F$4,Database!$B$1:$G$1,0)) -> 09 | G38: =INDEX(Database!$B:$G,MATCH($B38,Database!$B:$B,0),MATCH($G$4,Database!$B$1:$G$1,0)) -> Radnički - Sombor | H38: 71 | I38: 80 | J38: 85 | K38: 90 | L38: 90 | M38: 102 | N38: 107 | O38: 108 | P38: 108 | Q38: =L38+P38 -> 198 | R38: =IF(H38="","",Q38*10^((0.722762521)*LOG10(H38/193.609)^2)) -> 271.54999 | S38: 2
A39: 79
A40: 1 | B40: Patrik Senji | C40: =INDEX(Database!$B:$G,MATCH($B40,Database!B:B,0),MATCH($C$4,Database!$B$1:$G$1,0)) -> M | D40: =INDEX(Database!$B:$G,MATCH($B40,Database!$B:$B,0),MATCH($D$4,Database!$B$1:$G$1,0)) -> 29 | E40: =INDEX(Database!$B:$G,MATCH($B40,Database!$B:$B,0),MATCH($E$4,Database!$B$1:$G$1,0)) -> 01 | F40: =INDEX(Database!$B:$G,MATCH($B40,Database!$B:$B,0),MATCH($F$4,Database!$B$1:$G$1,0)) -> 09 | G40: =INDEX(Database!$B:$G,MATCH($B40,Database!$B:$B,0),MATCH($G$4,Database!$B$1:$G$1,0)) -> Spartak - Subotica | H40: 77.1 | I40: 85 | J40: 90 | K40: 95 | L40: 90 | M40: 105 | N40: 110 | O40: 115 | P40: 115 | Q40: =L40+P40 -> 205 | R40: =IF(H40="","",Q40*10^((0.722762521)*LOG10(H40/193.609)^2)) -> 267.49852 | S40: 1
...

Sheet Ekipe
A1: EKIPA
A5: KLUB:
A9: Muška | F9: Ženska
A13: 1 | F13: 1
A16: 2 | F16: 2
A19: 3 | F19: 3
A22: 4
A26: EKIPA
A30: KLUB:
A34: Muška | F34: Ženska
A38: 1 | F38: 1
A41: 2 | F41: 2
A44: 3 | F44: 3
A47: 4

Sheet karton
B2: red br | F2: Bojana Zoraja | P2: red br | T2: Marija Vajagić
C4: U17 | Q4: U17
G6: =INDEX(Database!$B:$G,MATCH(F2,Database!$B:$B,0),MATCH(F7,Database!$B1:$G1,0)) -> Železničar - Inđija | U6: =INDEX(Database!$B:$G,MATCH(T2,Database!$B:$B,0),MATCH(T7,Database!$B1:$G1,0)) -> Železničar - Inđija
F7: klub | T7: klub
F10: tel tež | J10: kat | T10: tel tež | X10: kat
B12: 1 pokusaj | F12: 2 pokusaj | J12: 3 pokusaj | P12: 1 pokusaj | T12: 2 pokusaj | X12: 3 pokusaj
A13: trzaj | O13: trzaj
A24: izbacaj | O24: izbacaj
B37: red br | F37: Sara Klarić | P37: red br | T37: Herold Hauk
C39: U17 | Q39: U15
G41: =INDEX(Database!$B:$G,MATCH(F37,Database!$B:$B,0),MATCH(F42,Database!$B1:$G1,0)) -> Železničar - Inđija | U41: =INDEX(Database!$B:$G,MATCH(T37,Database!$B:$B,0),MATCH(T42,Database!$B1:$G1,0)) -> Spartak - Subotica
F42: klub | T42: klub
F45: tel tež | J45: kat | T45: tel tež | X45: kat
B47: 1 pokusaj | F47: 2 pokusaj | J47: 3 pokusaj | P47: 1 pokusaj | T47: 2 pokusaj | X47: 3 pokusaj
A48: trzaj | O48: trzaj
A59: izbacaj | O59: izbacaj
B72: red br | F72: Mila Đorović | P72: red br | T72: Melania Farago
C74: U15 | Q74: U15
G76: =INDEX(Database!$B:$G,MATCH(F72,Database!$B:$B,0),MATCH(F77,Database!$B$1:$G$1,0)) -> Spartak - Subotica | U76: =INDEX(Database!$B:$G,MATCH(T72,Database!$B:$B,0),MATCH(T77,Database!$B$1:$G$1,0)) -> Spartak - Subotica
F77: klub | T77: klub
F80: tel tež | J80: kat | T80: tel tež | X80: kat
B82: 1 pokusaj | F82: 2 pokusaj | J82: 3 pokusaj | P82: 1 pokusaj | T82: 2 pokusaj | X82: 3 pokusaj
A83: trzaj | O83: trzaj
A94: izbacaj | O94: izbacaj
B107: red br | F107: Aron Mačai | P107: red br | T107: Mate Kovač
C109: U15 | Q109: U15
G111: =INDEX(Database!$B:$G,MATCH(F107,Database!$B:$B,0),MATCH(F112,Database!$B$1:$G$1,0)) -> Spartak - Subotica | U111: =INDEX(Database!$B:$G,MATCH(T107,Database!$B:$B,0),MATCH(T112,Database!$B$1:$G$1,0)) -> Spartak - Subotica
F112: klub | T112: klub
F115: tel tež | J115: kat | T115: tel tež | X115: kat
B117: 1 pokusaj | F117: 2 pokusaj | J117: 3 pokusaj | P117: 1 pokusaj | T117: 2 pokusaj | X117: 3 pokusaj
A118: trzaj | O118: trzaj
A129: izbacaj | O129: izbacaj
B142: red br | F142: Vivien Milanković | P142: red br | T142: Patrik Senji
C144: U15 | Q144: U17
G146: =INDEX(Database!$B:$G,MATCH(F142,Database!$B:$B,0),MATCH(F147,Database!$B$1:$G$1,0)) -> Spartak - Subotica | U146: =INDEX(Database!$B:$G,MATCH(T142,Database!$B:$B,0),MATCH(T147,Database!$B$1:$G$1,0)) -> Spartak - Subotica
F147: klub | T147: klub
F150: tel tež | J150: kat | T150: tel tež | X150: kat
B152: 1 pokusaj | F152: 2 pokusaj | J152: 3 pokusaj | P152: 1 pokusaj | T152: 2 pokusaj | X152: 3 pokusaj
A153: trzaj | O153: trzaj
A164: izbacaj | O164: izbacaj
...

Sheet karton (2)
B2: red br | P2: red br
G6: =INDEX(Database!$B:$G,MATCH(F2,Database!$B:$B,0),MATCH(F7,Database!$B1:$G1,0)) -> #N/A | U6: =INDEX(Database!$B:$G,MATCH(T2,Database!$B:$B,0),MATCH(T7,Database!$B1:$G1,0)) -> #N/A
F7: klub | T7: klub
F10: tel tež | J10: kat | T10: tel tež | X10: kat
B12: 1 pokusaj | F12: 2 pokusaj | J12: 3 pokusaj | P12: 1 pokusaj | T12: 2 pokusaj | X12: 3 pokusaj
A13: trzaj | O13: trzaj
A24: izbacaj | O24: izbacaj
B37: red br | P37: red br
G41: =INDEX(Database!$B:$G,MATCH(F37,Database!$B:$B,0),MATCH(F42,Database!$B1:$G1,0)) -> #N/A | U41: =INDEX(Database!$B:$G,MATCH(T37,Database!$B:$B,0),MATCH(T42,Database!$B1:$G1,0)) -> #N/A
F42: klub | T42: klub
F45: tel tež | J45: kat | T45: tel tež | X45: kat
B47: 1 pokusaj | F47: 2 pokusaj | J47: 3 pokusaj | P47: 1 pokusaj | T47: 2 pokusaj | X47: 3 pokusaj
A48: trzaj | O48: trzaj
A59: izbacaj | O59: izbacaj
B72: red br | P72: red br
G76: =INDEX(Database!$B:$G,MATCH(F72,Database!$B:$B,0),MATCH(F77,Database!$B$1:$G$1,0)) -> #N/A | U76: =INDEX(Database!$B:$G,MATCH(T72,Database!$B:$B,0),MATCH(T77,Database!$B$1:$G$1,0)) -> #N/A
F77: klub | T77: klub
F80: tel tež | J80: kat | T80: tel tež | X80: kat
B82: 1 pokusaj | F82: 2 pokusaj | J82: 3 pokusaj | P82: 1 pokusaj | T82: 2 pokusaj | X82: 3 pokusaj
A83: trzaj | O83: trzaj
A94: izbacaj | O94: izbacaj
B107: red br | P107: red br
G111: =INDEX(Database!$B:$G,MATCH(F107,Database!$B:$B,0),MATCH(F112,Database!$B$1:$G$1,0)) -> #N/A | U111: =INDEX(Database!$B:$G,MATCH(T107,Database!$B:$B,0),MATCH(T112,Database!$B$1:$G$1,0)) -> #N/A
F112: klub | T112: klub
F115: tel tež | J115: kat | T115: tel tež | X115: kat
B117: 1 pokusaj | F117: 2 pokusaj | J117: 3 pokusaj | P117: 1 pokusaj | T117: 2 pokusaj | X117: 3 pokusaj
A118: trzaj | O118: trzaj
A129: izbacaj | O129: izbacaj
B142: red br | P142: red br
G146: =INDEX(Database!$B:$G,MATCH(F142,Database!$B:$B,0),MATCH(F147,Database!$B$1:$G$1,0)) -> #N/A | U146: =INDEX(Database!$B:$G,MATCH(T142,Database!$B:$B,0),MATCH(T147,Database!$B$1:$G$1,0)) -> #N/A
F147: klub | T147: klub
F150: tel tež | J150: kat | T150: tel tež | X150: kat
B152: 1 pokusaj | F152: 2 pokusaj | J152: 3 pokusaj | P152: 1 pokusaj | T152: 2 pokusaj | X152: 3 pokusaj
A153: trzaj | O153: trzaj
A164: izbacaj | O164: izbacaj
B177: red br | P177: red br
G181: =INDEX(Database!$B:$G,MATCH(F177,Database!$B:$B,0),MATCH(F182,Database!$B$1:$G$1,0)) -> #N/A | U181: =INDEX(Database!$B:$G,MATCH(T177,Database!$B:$B,0),MATCH(T182,Database!$B$1:$G$1,0)) -> #N/A
F182: klub | T182: klub
F185: tel tež | J185: kat | T185: tel tež | X185: kat
B187: 1 pokusaj | F187: 2 pokusaj | J187: 3 pokusaj | P187: 1 pokusaj | T187: 2 pokusaj | X187: 3 pokusaj
...
